BEGIN:VCALENDAR
VERSION:2.0
PRODID:-//SF Space Walk - ECPv6.15.20//NONSGML v1.0//EN
CALSCALE:GREGORIAN
METHOD:PUBLISH
X-ORIGINAL-URL:https://sfspacewalk.com
X-WR-CALDESC:Events for SF Space Walk
REFRESH-INTERVAL;VALUE=DURATION:PT1H
X-Robots-Tag:noindex
X-PUBLISHED-TTL:PT1H
BEGIN:VTIMEZONE
TZID:America/Los_Angeles
BEGIN:DAYLIGHT
TZOFFSETFROM:-0800
TZOFFSETTO:-0700
TZNAME:PDT
DTSTART:20230312T100000
END:DAYLIGHT
BEGIN:STANDARD
TZOFFSETFROM:-0700
TZOFFSETTO:-0800
TZNAME:PST
DTSTART:20231105T090000
END:STANDARD
BEGIN:DAYLIGHT
TZOFFSETFROM:-0800
TZOFFSETTO:-0700
TZNAME:PDT
DTSTART:20240310T100000
END:DAYLIGHT
BEGIN:STANDARD
TZOFFSETFROM:-0700
TZOFFSETTO:-0800
TZNAME:PST
DTSTART:20241103T090000
END:STANDARD
BEGIN:DAYLIGHT
TZOFFSETFROM:-0800
TZOFFSETTO:-0700
TZNAME:PDT
DTSTART:20250309T100000
END:DAYLIGHT
BEGIN:STANDARD
TZOFFSETFROM:-0700
TZOFFSETTO:-0800
TZNAME:PST
DTSTART:20251102T090000
END:STANDARD
END:VTIMEZONE
BEGIN:VEVENT
DTSTART;TZID=America/Los_Angeles:20240711T170000
DTEND;TZID=America/Los_Angeles:20240711T190000
DTSTAMP:20260424T205355
CREATED:20240701T072229Z
LAST-MODIFIED:20240701T072256Z
UID:2829-1720717200-1720724400@sfspacewalk.com
SUMMARY:SF Hash Week - Day 2 - Ember Valley's new rosins @ Flore
DESCRIPTION:Large-scale Shasta\, CA flower brand Ember Valley debuts a new line of live rosin dabs single-sourced from their 2\,000-light flower rooms. Live rosin debut strains include: Northern Fire (Blueberry x Northern Lights)\, Sherbanger\, Orange Peels\, and Dirty Banana (Kush Mints x Banana OG). All plant material is fresh-frozen\, washed in sub-40-degree cold rooms with pre-chilled Shasta snowmelt water\, cold freeze-dried\, and cold-pressed. Live rosin available for July\, 2024 at SF Hash Week. \nEmber Valley is grower owned and operated with a focus on unique legacy and modern flavors and effects. Ember Valley’s top flower strains include Ice Cream Cake\, Gelonade\, Lemon Cherry Pie\, Grapefruit Slushiez\, Tiger King (Cheetah Piss x Runtz)\, and Purple Lightsaber (Windu #17 aka RS11 x Skywalker). Visit their booth. \nView the full Festival Guide.
URL:https://sfspacewalk.com/event/sf-hash-week-day-2-ember-valleys-new-rosins-flore/
LOCATION:Flore Dispensary Castro\, 258 Noe St\, San Francisco\, CA\, 94114\, United States
CATEGORIES:Public
ORGANIZER;CN="David Downs":MAILTO:david@sfspacewalk.com
END:VEVENT
BEGIN:VEVENT
DTSTART;TZID=America/Los_Angeles:20240711T173000
DTEND;TZID=America/Los_Angeles:20240711T193000
DTSTAMP:20260424T205356
CREATED:20240511T090039Z
LAST-MODIFIED:20240701T064403Z
UID:2270-1720719000-1720726200@sfspacewalk.com
SUMMARY:SF Hash Week - Evening 2 - Harry Rose @ Solful
DESCRIPTION:Solful plans a special in-house release from noted SF hashmaker Harry Rose. \n“Solful is firmly rooted in the ethos and traditions of Northern California’s craft cannabis heritage. We travel far and wide getting our shoes muddy building personal relationships with the most talented farmers and hashmakers in our region to turn sun-grown resin into superb solventless concentrates. Solful’s Handpicked Reserve marks the one-of-a-kind concentrates produced when our farm partners masterfully bring together sun\, soil\, craft and exceptional genetics\, creating resin that represent the pinnacle of Northern California sun-grown craft cannabis.”
URL:https://sfspacewalk.com/event/solful-plans-an-in-house-release-from-harry-rose/
LOCATION:Solful\, 900 Irving St\, San Francisco\, CA\, 94122\, United States
CATEGORIES:Public
ORGANIZER;CN="David Downs":MAILTO:david@sfspacewalk.com
END:VEVENT
BEGIN:VEVENT
DTSTART;TZID=America/Los_Angeles:20240711T180000
DTEND;TZID=America/Los_Angeles:20240711T200000
DTSTAMP:20260424T205356
CREATED:20240511T092629Z
LAST-MODIFIED:20240701T064531Z
UID:2287-1720720800-1720728000@sfspacewalk.com
SUMMARY:SF Hash Week - Night 2 - Nasha Hash @ Moe Greens
DESCRIPTION:Nasha brings its current flavors to Moe Greens. \n(See the entire Eventbrite SF Hash Week Collection) \nNasha background: \nAt Nasha\, we represent old school hash made a natural way\, without the use of solvents. Our aim is to deliver the highest quality concentrate for the lowest price\, maximizing the value for our customers. Part of our mission at Nasha is to support local farmers\, promoting the resin quality that is unique to Humboldt\, CA. We have developed relationships with experienced and reputable growers; curating what goes into their hash. Together with the farmers\, we study each cultivar meticulously to nurture the resin glands that will ultimately translate into the purest\, most potent hash. www.nashahash.com
URL:https://sfspacewalk.com/event/nasha-drop-marina-greens/
LOCATION:Moe Greens Dispensary & Lounge\, 1276 Market St\, San Francisco\, CA\, 94102\, United States
CATEGORIES:Public
ORGANIZER;CN="David Downs":MAILTO:david@sfspacewalk.com
END:VEVENT
END:VCALENDAR