BEGIN:VCALENDAR
VERSION:2.0
PRODID:-//SF Space Walk - ECPv6.15.20//NONSGML v1.0//EN
CALSCALE:GREGORIAN
METHOD:PUBLISH
X-WR-CALNAME:SF Space Walk
X-ORIGINAL-URL:https://sfspacewalk.com
X-WR-CALDESC:Events for SF Space Walk
REFRESH-INTERVAL;VALUE=DURATION:PT1H
X-Robots-Tag:noindex
X-PUBLISHED-TTL:PT1H
BEGIN:VTIMEZONE
TZID:America/Los_Angeles
BEGIN:DAYLIGHT
TZOFFSETFROM:-0800
TZOFFSETTO:-0700
TZNAME:PDT
DTSTART:20230312T100000
END:DAYLIGHT
BEGIN:STANDARD
TZOFFSETFROM:-0700
TZOFFSETTO:-0800
TZNAME:PST
DTSTART:20231105T090000
END:STANDARD
BEGIN:DAYLIGHT
TZOFFSETFROM:-0800
TZOFFSETTO:-0700
TZNAME:PDT
DTSTART:20240310T100000
END:DAYLIGHT
BEGIN:STANDARD
TZOFFSETFROM:-0700
TZOFFSETTO:-0800
TZNAME:PST
DTSTART:20241103T090000
END:STANDARD
BEGIN:DAYLIGHT
TZOFFSETFROM:-0800
TZOFFSETTO:-0700
TZNAME:PDT
DTSTART:20250309T100000
END:DAYLIGHT
BEGIN:STANDARD
TZOFFSETFROM:-0700
TZOFFSETTO:-0800
TZNAME:PST
DTSTART:20251102T090000
END:STANDARD
END:VTIMEZONE
BEGIN:VEVENT
DTSTART;TZID=America/Los_Angeles:20240717T170000
DTEND;TZID=America/Los_Angeles:20240717T190000
DTSTAMP:20260424T205410
CREATED:20240630T223141Z
LAST-MODIFIED:20240701T070654Z
UID:2788-1721235600-1721242800@sfspacewalk.com
SUMMARY:SF Hash Week - Day 8 - Hash and Flowers + friends @ Exit Now-Richmond\, CA
DESCRIPTION:Come down and meet and dab with the award-winning brand Hash and Flowers\, plus Mountain Man Melts\, and Forte. The closer for SF Hash Week. \nA super-secret and super-limited lineup of super-dank extracts from award-winning Hash and Flowers is on its way to Exit Now\, a private venue in Richmond\, CA adjacent to the 7 Stars dispensary. \nTrinity County\, CA brand Hash and Flowers prides itself on having the most diverse\, abundant live rosin lineup in the state with flavors like Cherry Jubilee\, Sour D\, Fruitisima\, and Peach Panther. \nHash and Flowers extracts come from single-source\, 2023\, full-sun outdoor runs in Trinity County and it was an amazing year. Washed and pressed on the farm—Hash and Flowers provides aficionados the best cold-cure live rosin at the best value. \nHere’s how it goes. 1) You RSVP 2) get a product reservation email 3) reserve your jars 4) put on pants and come down for the reception 5) pay and pick up your live rosins 5) stay and meet Hash and Flowers\, Mountain Man Melts\, Forte 6) enjoy the product\, free merch\, food\, music\, and culture. \nView the full Festival Guide. \nAt 7 Stars Richmond 3219 Pierce St\, Richmond\, CA 94804
URL:https://sfspacewalk.com/event/sf-hash-week-day-8-hash-and-flowers-friends-exit-now-richmond-ca/
LOCATION:7 Stars\, Exit Now\, 3223 Pierce St.\, Richmond\, CA\, 94804\, United States
CATEGORIES:Public
ORGANIZER;CN="David Downs":MAILTO:david@sfspacewalk.com
END:VEVENT
END:VCALENDAR