BEGIN:VCALENDAR
VERSION:2.0
PRODID:-//SF Space Walk - ECPv6.15.20//NONSGML v1.0//EN
CALSCALE:GREGORIAN
METHOD:PUBLISH
X-ORIGINAL-URL:https://sfspacewalk.com
X-WR-CALDESC:Events for SF Space Walk
REFRESH-INTERVAL;VALUE=DURATION:PT1H
X-Robots-Tag:noindex
X-PUBLISHED-TTL:PT1H
BEGIN:VTIMEZONE
TZID:UTC
BEGIN:STANDARD
TZOFFSETFROM:+0000
TZOFFSETTO:+0000
TZNAME:UTC
DTSTART:20230101T000000
END:STANDARD
END:VTIMEZONE
BEGIN:VEVENT
DTSTART;TZID=UTC:20241208T183000
DTEND;TZID=UTC:20241208T210000
DTSTAMP:20260424T084659
CREATED:20241018T132522Z
LAST-MODIFIED:20241209T092426Z
UID:3888-1733682600-1733691600@sfspacewalk.com
SUMMARY:Dab-E-Oke: Japanese dinner\, dabs\, and karaoke
DESCRIPTION:Japanese stoner food\nTop-notch karaoke banquet hall\nDabs from top hashmakers Moon Valley\, Dope As Fuck (Hash and Flowers)\, Trichome Gold\nDAB-E-OKE | 1161 Post Street | Taisho Restaurant\nSunday – Dec. 8 at 6:30 p.m.- 9 p.m. | Post St.\nTerpnami After-Party\n$75 a per seat\nHosted by award-winning journalist David Downs\n \n \nWrap up the Terpnami seed expo with a Japanese dinner\, and tasty dabs in a restaurant banquet room off Post St. in SF. \nWe’re talking: \n\nchicken katsu\nSpam french fries\ncold beers\nelite rosin from Moon Valley\, Dope As Fuck (Hash and Flowers)\, Trichome Gold\,\nand untold thousands of your favorite jams\n\nExpect a crowd of canna-VIPs. Produced by the Terpnami seed show team.
URL:https://sfspacewalk.com/event/dab-e-oke-japanese-dinner-dabs-and-karaoke/
LOCATION:Private Banquet Room\, Van Ness\, San Francisco\, United States
CATEGORIES:Public
ATTACH;FMTTYPE=image/png:https://sfspacewalk.com/wp-content/uploads/2024/09/TERPNAMI-STANDALONE.png
ORGANIZER;CN="David Downs":MAILTO:david@sfspacewalk.com
END:VEVENT
END:VCALENDAR