BEGIN:VCALENDAR
VERSION:2.0
PRODID:-//SF Space Walk - ECPv6.15.20//NONSGML v1.0//EN
CALSCALE:GREGORIAN
METHOD:PUBLISH
X-ORIGINAL-URL:https://sfspacewalk.com
X-WR-CALDESC:Events for SF Space Walk
REFRESH-INTERVAL;VALUE=DURATION:PT1H
X-Robots-Tag:noindex
X-PUBLISHED-TTL:PT1H
BEGIN:VTIMEZONE
TZID:America/Los_Angeles
BEGIN:DAYLIGHT
TZOFFSETFROM:-0800
TZOFFSETTO:-0700
TZNAME:PDT
DTSTART:20240310T100000
END:DAYLIGHT
BEGIN:STANDARD
TZOFFSETFROM:-0700
TZOFFSETTO:-0800
TZNAME:PST
DTSTART:20241103T090000
END:STANDARD
BEGIN:DAYLIGHT
TZOFFSETFROM:-0800
TZOFFSETTO:-0700
TZNAME:PDT
DTSTART:20250309T100000
END:DAYLIGHT
BEGIN:STANDARD
TZOFFSETFROM:-0700
TZOFFSETTO:-0800
TZNAME:PST
DTSTART:20251102T090000
END:STANDARD
BEGIN:DAYLIGHT
TZOFFSETFROM:-0800
TZOFFSETTO:-0700
TZNAME:PDT
DTSTART:20260308T100000
END:DAYLIGHT
BEGIN:STANDARD
TZOFFSETFROM:-0700
TZOFFSETTO:-0800
TZNAME:PST
DTSTART:20261101T090000
END:STANDARD
END:VTIMEZONE
BEGIN:VEVENT
DTSTART;TZID=America/Los_Angeles:20250620T160000
DTEND;TZID=America/Los_Angeles:20250620T190000
DTSTAMP:20260423T193751
CREATED:20250519T200302Z
LAST-MODIFIED:20250615T152541Z
UID:10660-1750435200-1750446000@sfspacewalk.com
SUMMARY:SF Hash Week Prelude: 1st Day of Summer Party
DESCRIPTION:SF Hash Week Prelude: 1st Day of Summer Party\nSF Hash Week throws a first day of Summer party in the East Bay for Jetty Extracts and friends\, at the new lounge—Urbana Oakland.\nThe First Day of Summer is Friday\, June 20.\nParty from 4 to 7 p.m. in the Urbana lounge—DABS ONLY.\nDeals/Specials: 25% off on Jetty items at Urbana-Oakland on June 20. While supplies last.\nFREE Jetty live rosin dab in the dab bar for purchasers of Jetty products. While supplies last.\nMenu items:\n\nOCAL-certified 1-gram 510-thread solventless Jetty cartridges. Strains: Hashburger\, Tropical Explosion\, and Dazed and Confused\n1-gram solventless rosin preroll. Strains: Popz + Fatso; Alcatraz OG + THC Bomb. (Pre-roll contains Jetty hash cryoinfused with Coastal Sun flower\, 1.2 grams per joint\, singles on hand)\nLive resin pre-roll 1-gram Maui Wowi\, and Strawberry Mimosa\n\nJetty Extracts of California crafts premium cannabis extracts using clean\, solventless techniques and sustainably sourced materials. Known for innovation and purity\, Jetty delivers a consistently smooth\, flavorful experience for both medicinal and recreational users. \nUrbana Oakland\, located at 415 W Grand Ave in Uptown\, reimagines the historic Luka’s Taproom into a vibrant cannabis dispensary and consumption lounge. Blending modern design with community spirit\, it offers a curated selection of premium cannabis products\, a stylish lounge for on-site enjoyment\, and a dynamic calendar of events that celebrate Oakland’s rich cultural tapestry. \nDrop Party produced by SF Hash Week. A Drop Party is like a record release party\, but for a popular hash brand. Expect SFHW snacks\, merch\, collectibles\, and community. \nThis party is a prelude to SF Hash Week. SF Hash Week is like Beer Week or Restaurant Week—it’s 7 nights of the state’s best hashmakers dropping new dabs all around town; plus\, a Warehouse Party\, July 11 in the Dogpatch District. Participating: Kalya\, Nasha\, Fire King\, 710 Labs\, Errl Hill\, Jetty\, Kiva\, Purple City Genetics\, Rosin Tech\, Gold Drop\, Oakland Extracts\, Trichome Gold\, and more. \nRead our SF Hash Week 2025 Festival Guide
URL:https://sfspacewalk.com/event/sf-hash-week-june-20-party/
LOCATION:Urbana Oakland\, 415 W. Grand Ave.\, Oakland\, CA\, 94612\, United States
ATTACH;FMTTYPE=image/jpeg:https://sfspacewalk.com/wp-content/uploads/2025/05/wave-and-bridge-horizontal-for-main-home-page-for-web.jpg
ORGANIZER;CN="David Downs":MAILTO:david@sfspacewalk.com
END:VEVENT
END:VCALENDAR