BEGIN:VCALENDAR
VERSION:2.0
PRODID:-//SF Space Walk - ECPv6.15.20//NONSGML v1.0//EN
CALSCALE:GREGORIAN
METHOD:PUBLISH
X-WR-CALNAME:SF Space Walk
X-ORIGINAL-URL:https://sfspacewalk.com
X-WR-CALDESC:Events for SF Space Walk
REFRESH-INTERVAL;VALUE=DURATION:PT1H
X-Robots-Tag:noindex
X-PUBLISHED-TTL:PT1H
BEGIN:VTIMEZONE
TZID:America/Los_Angeles
BEGIN:DAYLIGHT
TZOFFSETFROM:-0800
TZOFFSETTO:-0700
TZNAME:PDT
DTSTART:20250309T100000
END:DAYLIGHT
BEGIN:STANDARD
TZOFFSETFROM:-0700
TZOFFSETTO:-0800
TZNAME:PST
DTSTART:20251102T090000
END:STANDARD
BEGIN:DAYLIGHT
TZOFFSETFROM:-0800
TZOFFSETTO:-0700
TZNAME:PDT
DTSTART:20260308T100000
END:DAYLIGHT
BEGIN:STANDARD
TZOFFSETFROM:-0700
TZOFFSETTO:-0800
TZNAME:PST
DTSTART:20261101T090000
END:STANDARD
BEGIN:DAYLIGHT
TZOFFSETFROM:-0800
TZOFFSETTO:-0700
TZNAME:PDT
DTSTART:20270314T100000
END:DAYLIGHT
BEGIN:STANDARD
TZOFFSETFROM:-0700
TZOFFSETTO:-0800
TZNAME:PST
DTSTART:20271107T090000
END:STANDARD
END:VTIMEZONE
BEGIN:VTIMEZONE
TZID:America/Los_Angeles
BEGIN:DAYLIGHT
TZOFFSETFROM:-0800
TZOFFSETTO:-0700
TZNAME:PDT
DTSTART:20250309T100000
END:DAYLIGHT
BEGIN:STANDARD
TZOFFSETFROM:-0700
TZOFFSETTO:-0800
TZNAME:PST
DTSTART:20251102T090000
END:STANDARD
BEGIN:DAYLIGHT
TZOFFSETFROM:-0800
TZOFFSETTO:-0700
TZNAME:PDT
DTSTART:20260308T100000
END:DAYLIGHT
BEGIN:STANDARD
TZOFFSETFROM:-0700
TZOFFSETTO:-0800
TZNAME:PST
DTSTART:20261101T090000
END:STANDARD
BEGIN:DAYLIGHT
TZOFFSETFROM:-0800
TZOFFSETTO:-0700
TZNAME:PDT
DTSTART:20270314T100000
END:DAYLIGHT
BEGIN:STANDARD
TZOFFSETFROM:-0700
TZOFFSETTO:-0800
TZNAME:PST
DTSTART:20271107T090000
END:STANDARD
END:VTIMEZONE
BEGIN:VEVENT
DTSTART;TZID=America/Los_Angeles:20260403T170000
DTEND;TZID=America/Los_Angeles:20260427T200000
DTSTAMP:20260422T181439
CREATED:20260105T173132Z
LAST-MODIFIED:20260306T170926Z
UID:14549-1775235600-1777320000@sfspacewalk.com
SUMMARY:'Get to the Bag' 2026 - Cannabis Graphic Art Show
DESCRIPTION:The 3rd annual ‘Get to the Bag’ 2026 Cannabis Graphic art show. \nA selection of  several hundred pieces of cannabis ‘mylar’ art from a collection of over 1\,500 pieces of packaging. \nVenue sponsor: Grove Bags with TerpLoc. \nWith many special guests to be announced. \nVenue: Mirus Gallery; 3rd Floor\, 540 Howard St. \nRuns: Friday\, April 3 to Sunday\, April 27. \nOpening night: Friday\, April 3 5-8 p.m. \nOr by appointment. Call 415-240-2742. \nPhoto by Mike Rosati for David Downs Presents)\n‘Get to the Bag’ file photo. (David Downs Presents)\nRead the full SF Space Walk 2026 Festival Guide
URL:https://sfspacewalk.com/event/get-to-the-bag-2026/
LOCATION:Mirus Gallery\, 540 Howard St 3rd fl\, San Francisco\, CA\, 94105\, United States
CATEGORIES:Public
ATTACH;FMTTYPE=image/png:https://sfspacewalk.com/wp-content/uploads/2026/01/Screenshot-2026-02-17-at-5.19.52-PM-1.png
ORGANIZER;CN="David Downs Presents":MAILTO:daviddownspresents@pm.me
END:VEVENT
BEGIN:VEVENT
DTSTART;TZID=America/Los_Angeles:20260516T130000
DTEND;TZID=America/Los_Angeles:20260517T170000
DTSTAMP:20260422T181439
CREATED:20260105T181411Z
LAST-MODIFIED:20260304T192730Z
UID:14559-1778936400-1779037200@sfspacewalk.com
SUMMARY:Clonetopia 2026: NorCal Clone Release Festival
DESCRIPTION:A weekend of clone release parties around NorCal.\nSaturday\, May 16 & Sunday\, May 17\nSecure the world’s hottest clones for an epic 2026 full-sun run.\nPre-orders | Exclusives | Deals | Giveaways | Gardening Supplies & How Tos | Merch | Fun | Community\nRSVP below to get email notifications. (Purchase required to enter parties)\nProgramming from 1-5 p.m. each day.\nLocations include:\nThe City drop partner \n \n900 Irving St\, San Francisco\, CA 94122 \n \n3219 Pierce St\, Richmond\, CA \nFeaturing 2026 exclusive clones from the award-winning:\n \nReserve your $1\,000 cut of Tire Fire OG (exclusive 100-clone drop)\nTire Fire OG\nReserve your $100 ‘Surprise 6‘ pack of clones curated from the HendRx library\n \n \n \n \nand more. \nWith giveaways from:\n  \n \nand more. \nFrom the makers of SF Space Walk\, SF Hash Week\, and Terpnami. \nWith giveaways and book sales from:
URL:https://sfspacewalk.com/event/clonetopia-2026/
LOCATION:CA
CATEGORIES:Public
ATTACH;FMTTYPE=image/png:https://sfspacewalk.com/wp-content/uploads/2026/01/Screenshot-2026-01-20-at-1.10.48-PM.png
ORGANIZER;CN="David Downs Presents":MAILTO:daviddownspresents@pm.me
END:VEVENT
BEGIN:VEVENT
DTSTART;TZID=America/Los_Angeles:20260707T160000
DTEND;TZID=America/Los_Angeles:20260707T190000
DTSTAMP:20260422T181439
CREATED:20260105T182530Z
LAST-MODIFIED:20260105T185726Z
UID:14579-1783440000-1783450800@sfspacewalk.com
SUMMARY:SF Hash Week 2026 - Day 1
DESCRIPTION:SF Hash Week 2026 – Day 1 Drop Party\nSF Hash Week is like SF Beer Week or Restaurant Week—it’s 7 nights of the state’s best hashmakers dropping new dabs all around town; plus\, a Club Party\, July 10 in SOMA. \nWhat’s a “Drop Party”: It’s like a record release party\, but for a rockstar hash maker and top-tier hash.  \nYou RSVP below\, pre-order to reserve your jar\, attend\, purchase\, and dab with the producer in a beautiful\, licensed dab lounge.  \nThere’s music\, snacks\, art\, giveaways\, deals\, and a grower interview. \nSF Hash Week file photo. (David Downs Presents)
URL:https://sfspacewalk.com/event/sf-hash-week-2026-day-1/
LOCATION:CA
CATEGORIES:Public
ATTACH;FMTTYPE=image/png:https://sfspacewalk.com/wp-content/uploads/2024/08/UPDATE2SFHW_LogoSquare_Yellow.png
ORGANIZER;CN="David Downs Presents":MAILTO:daviddownspresents@pm.me
END:VEVENT
BEGIN:VEVENT
DTSTART;TZID=America/Los_Angeles:20260708T160000
DTEND;TZID=America/Los_Angeles:20260708T190000
DTSTAMP:20260422T181439
CREATED:20260105T182650Z
LAST-MODIFIED:20260105T185806Z
UID:14585-1783526400-1783537200@sfspacewalk.com
SUMMARY:SF Hash Week 2026 - Day 2
DESCRIPTION:SF Hash Week 2026 – Day 2 Drop Party\nSF Hash Week is like SF Beer Week or Restaurant Week—it’s 7 nights of the state’s best hashmakers dropping new dabs all around town; plus\, a Club Party\, July 10 in SOMA. \nWhat’s a “Drop Party”: It’s like a record release party\, but for a rockstar hash maker and top-tier hash.  \nYou RSVP below\, pre-order to reserve your jar\, attend\, purchase\, and dab with the producer in a beautiful\, licensed dab lounge.  \nThere’s music\, snacks\, art\, giveaways\, deals\, and a grower interview. \nSF Hash Week file photo. (David Downs Presents)
URL:https://sfspacewalk.com/event/sf-hash-week-2026-day-2/
LOCATION:CA
CATEGORIES:Public
ATTACH;FMTTYPE=image/png:https://sfspacewalk.com/wp-content/uploads/2024/08/UPDATE2SFHW_LogoSquare_Yellow.png
ORGANIZER;CN="David Downs Presents":MAILTO:daviddownspresents@pm.me
END:VEVENT
BEGIN:VEVENT
DTSTART;TZID=America/Los_Angeles:20260709T160000
DTEND;TZID=America/Los_Angeles:20260709T190000
DTSTAMP:20260422T181439
CREATED:20260105T182802Z
LAST-MODIFIED:20260109T062714Z
UID:14587-1783612800-1783623600@sfspacewalk.com
SUMMARY:SF Hash Week 2026 - Day 3 @ 7 Stars | Exit Now
DESCRIPTION:SF Hash Week 2026 – Day 3 Drop Party @ 7 Stars | Exit Now\nSF Hash Week is like SF Beer Week or Restaurant Week—it’s 7 nights of the state’s best hashmakers dropping new dabs all around town; plus\, a Club Party\, July 10 in SOMA. \nWhat’s a “Drop Party”: It’s like a record release party\, but for a rockstar hash maker and top-tier hash.  \nYou RSVP below\, pre-order to reserve your jar\, attend\, purchase\, and dab with the producer in a beautiful\, licensed dab lounge. (Purchase required for lounge entry.) \nThere’s music\, snacks\, art\, giveaways\, deals\, and a grower interview. \nSF Hash Week file photo. (David Downs Presents)
URL:https://sfspacewalk.com/event/sf-hash-week-2026-day-3/
LOCATION:CA
CATEGORIES:Public
ATTACH;FMTTYPE=image/png:https://sfspacewalk.com/wp-content/uploads/2024/08/UPDATE2SFHW_LogoSquare_Yellow.png
ORGANIZER;CN="David Downs Presents":MAILTO:daviddownspresents@pm.me
END:VEVENT
BEGIN:VEVENT
DTSTART;TZID=America/Los_Angeles:20260710T160000
DTEND;TZID=America/Los_Angeles:20260710T190000
DTSTAMP:20260422T181439
CREATED:20260106T200914Z
LAST-MODIFIED:20260106T200914Z
UID:14632-1783699200-1783710000@sfspacewalk.com
SUMMARY:SF Hash Week 2026 - Day 4 - Drop Party @ Moe Greens
DESCRIPTION:SF Hash Week 2026 – Day 4 – Drop Party @ Moe Greens\nSF Hash Week is like SF Beer Week or Restaurant Week—it’s 7 nights of the state’s best hashmakers dropping new dabs all around town; plus\, a Club Party\, July 10 in SOMA. \nThere’s music\, food+drink\, art\, glass\, fashion\, giveaways\, and your favorite hash stars. \nPurchase required to enter lounge. \nSF Hash Week file photo. (David Downs Presents)
URL:https://sfspacewalk.com/event/sf-hash-week-2026-day-4-drop-party-moe-greens/
LOCATION:Moe Greens Dispensary & Lounge\, 1276 Market St\, San Francisco\, CA\, 94102\, United States
CATEGORIES:Public
ATTACH;FMTTYPE=image/png:https://sfspacewalk.com/wp-content/uploads/2024/08/UPDATE2SFHW_LogoSquare_Yellow.png
ORGANIZER;CN="David Downs Presents":MAILTO:daviddownspresents@pm.me
END:VEVENT
BEGIN:VEVENT
DTSTART;TZID=America/Los_Angeles:20260710T190000
DTEND;TZID=America/Los_Angeles:20260710T220000
DTSTAMP:20260422T181439
CREATED:20260105T183843Z
LAST-MODIFIED:20260106T200645Z
UID:14589-1783710000-1783720800@sfspacewalk.com
SUMMARY:SF Hash Week 2026 - Day 4 - '710 Club' Reception
DESCRIPTION:SF Hash Week 2026 – Day 4 – ‘710 Club’ Reception\nSF Hash Week is like SF Beer Week or Restaurant Week—it’s 7 nights of the state’s best hashmakers dropping new dabs all around town; plus\, a Club Party\, July 10 in SOMA. \nWhat’s the “710 Club” Reception?: It’s our large\, Friday night private gathering for SF Hash Week ‘710 Club’ members.  \nYou join the ‘710 Club’ below to gain access to the 710 club event in SOMA Friday\, July 10 from 7 to 10 p.m. \nThere’s music\, food+drink\, art\, glass\, fashion\, giveaways\, and your favorite hash stars. \nNasha hash on display. (David Downs Presents)\nSF Hash Week file photo. (David Downs Presents)
URL:https://sfspacewalk.com/event/sf-hash-week-2026-day-4-710-club-reception/
LOCATION:CA
CATEGORIES:Public
ATTACH;FMTTYPE=image/png:https://sfspacewalk.com/wp-content/uploads/2024/08/UPDATE2SFHW_LogoSquare_Yellow.png
ORGANIZER;CN="David Downs Presents":MAILTO:daviddownspresents@pm.me
END:VEVENT
BEGIN:VEVENT
DTSTART;TZID=America/Los_Angeles:20260711T130000
DTEND;TZID=America/Los_Angeles:20260711T160000
DTSTAMP:20260422T181439
CREATED:20260105T184026Z
LAST-MODIFIED:20260108T200341Z
UID:14593-1783774800-1783785600@sfspacewalk.com
SUMMARY:SF Hash Week 2026 - Day 5 - 7 Stars | Exit Now
DESCRIPTION:SF Hash Week 2026 – Day 5 Drop Party @ 7 Stars | Exit Now\, Richmond\, CA\nSF Hash Week is like SF Beer Week or Restaurant Week—it’s 7 nights of the state’s best hashmakers dropping new dabs all around town; plus\, a Club Party\, July 10 in SOMA. \nWhat’s a “Drop Party”: It’s like a record release party\, but for a rockstar hash maker and top-tier hash.  \nYou RSVP below\, pre-order to reserve your jar\, attend\, purchase\, and dab with the producer in a beautiful\, licensed dab lounge.  \nThere’s music\, snacks\, art\, giveaways\, deals\, and a grower interview. \nSF Hash Week file photo. (David Downs Presents)
URL:https://sfspacewalk.com/event/sf-hash-week-2026-day-5/
LOCATION:7 Stars\, Exit Now\, 3223 Pierce St.\, Richmond\, CA\, 94804\, United States
CATEGORIES:Public
ATTACH;FMTTYPE=image/png:https://sfspacewalk.com/wp-content/uploads/2024/08/UPDATE2SFHW_LogoSquare_Yellow.png
ORGANIZER;CN="David Downs Presents":MAILTO:daviddownspresents@pm.me
END:VEVENT
BEGIN:VEVENT
DTSTART;TZID=America/Los_Angeles:20260712T130000
DTEND;TZID=America/Los_Angeles:20260712T160000
DTSTAMP:20260422T181439
CREATED:20260105T184318Z
LAST-MODIFIED:20260105T190005Z
UID:14595-1783861200-1783872000@sfspacewalk.com
SUMMARY:SF Hash Week 2026 - Day 6
DESCRIPTION:SF Hash Week 2026 – Day 6 Drop Party\nSF Hash Week is like SF Beer Week or Restaurant Week—it’s 7 nights of the state’s best hashmakers dropping new dabs all around town; plus\, a Club Party\, July 10 in SOMA. \nWhat’s a “Drop Party”: It’s like a record release party\, but for a rockstar hash maker and top-tier hash.  \nYou RSVP below\, pre-order to reserve your jar\, attend\, purchase\, and dab with the producer in a beautiful\, licensed dab lounge.  \nThere’s music\, snacks\, art\, giveaways\, deals\, and a grower interview. \nSF Hash Week file photo. (David Downs Presents)
URL:https://sfspacewalk.com/event/sf-hash-week-2026-day-6/
LOCATION:CA
CATEGORIES:Public
ATTACH;FMTTYPE=image/png:https://sfspacewalk.com/wp-content/uploads/2024/08/UPDATE2SFHW_LogoSquare_Yellow.png
ORGANIZER;CN="David Downs Presents":MAILTO:daviddownspresents@pm.me
END:VEVENT
BEGIN:VEVENT
DTSTART;TZID=America/Los_Angeles:20260713T160000
DTEND;TZID=America/Los_Angeles:20260713T190000
DTSTAMP:20260422T181439
CREATED:20260105T184530Z
LAST-MODIFIED:20260105T190034Z
UID:14599-1783958400-1783969200@sfspacewalk.com
SUMMARY:SF Hash Week 2026 - Day 7
DESCRIPTION:SF Hash Week 2026 – Day 7 Drop Party\nSF Hash Week is like SF Beer Week or Restaurant Week—it’s 7 nights of the state’s best hashmakers dropping new dabs all around town; plus\, a Club Party\, July 10 in SOMA. \nWhat’s a “Drop Party”?: It’s like a record release party\, but for a rockstar hash maker and top-tier hash.  \nYou RSVP below\, pre-order to reserve your jar\, attend\, purchase\, and dab with the producer in a beautiful\, licensed dab lounge.  \nThere’s music\, snacks\, art\, giveaways\, deals\, and a grower interview. \nSF Hash Week file photo. (David Downs Presents)
URL:https://sfspacewalk.com/event/sf-hash-week-2026-day-7/
LOCATION:CA
CATEGORIES:Public
ATTACH;FMTTYPE=image/png:https://sfspacewalk.com/wp-content/uploads/2024/08/UPDATE2SFHW_LogoSquare_Yellow.png
ORGANIZER;CN="David Downs Presents":MAILTO:daviddownspresents@pm.me
END:VEVENT
BEGIN:VEVENT
DTSTART;TZID=America/Los_Angeles:20261205T120000
DTEND;TZID=America/Los_Angeles:20261205T170000
DTSTAMP:20260422T181439
CREATED:20260105T190546Z
LAST-MODIFIED:20260105T190546Z
UID:14611-1796472000-1796490000@sfspacewalk.com
SUMMARY:Terpnami seed show 2026 - Day 1
DESCRIPTION:Terpnami seed show returns to San Francisco Saturday-Sunday\, December 5 and 6; with over 30 of the world’s best breeders; plus DJs\, food\, art\, and culture.\nRSVP below to receive more info.\n 
URL:https://sfspacewalk.com/event/terpnami-seed-show-2026-day-1/
LOCATION:CA
CATEGORIES:Public
ATTACH;FMTTYPE=image/png:https://sfspacewalk.com/wp-content/uploads/2024/09/TERPNAMIAtmospheric.png
ORGANIZER;CN="David Downs Presents":MAILTO:daviddownspresents@pm.me
END:VEVENT
BEGIN:VEVENT
DTSTART;TZID=America/Los_Angeles:20261206T120000
DTEND;TZID=America/Los_Angeles:20261206T170000
DTSTAMP:20260422T181439
CREATED:20260105T190706Z
LAST-MODIFIED:20260105T190706Z
UID:14615-1796558400-1796576400@sfspacewalk.com
SUMMARY:Terpnami seed show 2026 - Day 2
DESCRIPTION:Terpnami seed show returns to San Francisco Saturday-Sunday\, December 5 and 6; with over 30 of the world’s best breeders; plus DJs\, food\, art\, and culture.\nRSVP below to receive more info.\n 
URL:https://sfspacewalk.com/event/terpnami-seed-show-2026-day-2/
LOCATION:CA
CATEGORIES:Public
ATTACH;FMTTYPE=image/png:https://sfspacewalk.com/wp-content/uploads/2024/09/TERPNAMIAtmospheric.png
ORGANIZER;CN="David Downs Presents":MAILTO:daviddownspresents@pm.me
END:VEVENT
END:VCALENDAR