BEGIN:VCALENDAR
VERSION:2.0
PRODID:-//SF Space Walk - ECPv6.15.20//NONSGML v1.0//EN
CALSCALE:GREGORIAN
METHOD:PUBLISH
X-ORIGINAL-URL:https://sfspacewalk.com
X-WR-CALDESC:Events for SF Space Walk
REFRESH-INTERVAL;VALUE=DURATION:PT1H
X-Robots-Tag:noindex
X-PUBLISHED-TTL:PT1H
BEGIN:VTIMEZONE
TZID:America/Los_Angeles
BEGIN:DAYLIGHT
TZOFFSETFROM:-0800
TZOFFSETTO:-0700
TZNAME:PDT
DTSTART:20240310T100000
END:DAYLIGHT
BEGIN:STANDARD
TZOFFSETFROM:-0700
TZOFFSETTO:-0800
TZNAME:PST
DTSTART:20241103T090000
END:STANDARD
BEGIN:DAYLIGHT
TZOFFSETFROM:-0800
TZOFFSETTO:-0700
TZNAME:PDT
DTSTART:20250309T100000
END:DAYLIGHT
BEGIN:STANDARD
TZOFFSETFROM:-0700
TZOFFSETTO:-0800
TZNAME:PST
DTSTART:20251102T090000
END:STANDARD
BEGIN:DAYLIGHT
TZOFFSETFROM:-0800
TZOFFSETTO:-0700
TZNAME:PDT
DTSTART:20260308T100000
END:DAYLIGHT
BEGIN:STANDARD
TZOFFSETFROM:-0700
TZOFFSETTO:-0800
TZNAME:PST
DTSTART:20261101T090000
END:STANDARD
END:VTIMEZONE
BEGIN:VEVENT
DTSTART;TZID=America/Los_Angeles:20251205T160000
DTEND;TZID=America/Los_Angeles:20251205T190000
DTSTAMP:20260423T052454
CREATED:20251101T164027Z
LAST-MODIFIED:20251121T203437Z
UID:13214-1764950400-1764961200@sfspacewalk.com
SUMMARY:Moon Valley 6-star Full Melt Drop Party (Terpnami Pre-Party)
DESCRIPTION:Pe-order below for the Friday\, Dec. 5\, 4-7 p.m. Terpnami Pre-Party at Moe Greens Lounge\, 1276 Market St. SF. Purchase required to enter smoking lounge.\nDrop Party Headliner: Moon Valley appears and releases a special\, limited batch of 6-star Full Melt Fresh Frozen Hash. Strain: Neon Panther. Target price: $100/gram. 6-star is almost unheard of on California’s rec market. Comes with 3.5 grams of Moon Valley flower for $1.* (*price and conditions subject to change)\nMoon Valley Neon Panther 6-star full-melt\nSupporting brands: Umma Sonoma appears and releases a fresh batch of highly coveted Blue Lobster (Apples & Bananas x Eye Candy). This will sell out.\nUmma Sonoma Blue Lobster\nPAX will sell all-in-one live rosin vapes in the strain Snowcap\, demo their new Pax Flow\, and perform laser engraving of Terpnami on PAX devices.\nTrap brand flower bags are $24.41 with a buy 2 get 1 for $1 deal.’\nPreferred pre-rolls for $10 out the door.\nDr. Dabber will demo their new Ghost 2 ‘pocket rig.’\nW/ DJ Leori; and Terpnami coloring page contest \nWhat’s a drop party? It’s like a record release party\, but for a top brand and a hype cannabis product. Fans meet the producer and light up together. Plus\, music\, art\, food\, drink and giveaways. Terpnami beanies and magazines will be for sale\, or pre-order pickup. \nHow does it work? \n\nRSVP to receive party emails.\nPre-order what you want now in the form below. Supplies limited!\nCome to the event.\nPay\, pick up\, and party with Moon Valley Eli\, Umma Giancarlo\, PAX’s Shannabis\, and Dr. Dabber’s Sabrina.\n\nPlease enable JavaScript in your browser to complete this form.Please enable JavaScript in your browser to complete this form.Name *FirstLastEmail *Pickup nameYour order comes with: \n\nice packs; thermal bubble mailer\na reception\, beats\, bevs\, and bites\na Terpnami coloring page\n\n\nMoon Valley 6-star\, full-melt Neon Panther hash [PRE-ORDERS ARE FULL]1-gram full-melt\, unpressed\, frozen - $100.00012345678Price is $100 out the door\, taxes included. A very special project involving super-low retail markup\, just-in-time inventory\, freezers\, and you! Limited to just 18 units! Comes with 3.5 grams of Moon Valley flower for $1. An Incredible deal. NO DISCOUNTS MAY BE APPLIED TO THIS ITEM.\nPRE-ORDERS ARE NOW FULL (12/4). \nSubsequent pre-orders will be placed on a 'standby list'. Abandoned pre-orders will go to the folks on the standby list in the order they were received. Umma Sonoma - Blue Lobster boutique indoor flower3.5 gram bag - $66.15012345678Price is $66.15 out the door\, taxes included.\nGenetics: Apples & Bananas x Eye Candy.\nLimited to 36 bags. Get your bag autographed by Umma Sonoma's Giancarlo! Also: Umma 'secret deal' in lounge.PAX- All-in-one Snowcap (Live Rosin)1 gram all-in-one - $68.65012345678Price is $68.65 out the door\, taxes included.\nLimited to 12 units.'TRAP' brand value bags3.5 gram flower bag Rainbow Sherbert - $24.403.5 gram flower bag Strawberry Z - $24.403.5 gram flower bag Purple Cookies - $24.40012345678'TRAP' is Moe Green's inhouse flower brand. Deal: Buy 2 3.5-gram Trap flower bags get 1 for $1.		\n			Valley Name (Lemon\n			\n		\n		'TRAP' brand value bags3.5 gram flower bag Rainbow Sherbert - $24.403.5 gram flower bag Strawberry Z - $24.403.5 gram flower bag Purple Cookies - $24.40012345678'TRAP' is Moe Green's inhouse flower brand. Deal: Buy 2 3.5-gram Trap flower bags get 1 for $1.'TRAP' brand value bags3.5 gram flower bag Rainbow Sherbert - $24.403.5 gram flower bag Strawberry Z - $24.403.5 gram flower bag Purple Cookies - $24.40012345678'TRAP' is Moe Green's inhouse flower brand. Deal: Buy 2 3.5-gram Trap flower bags get 1 for $1.Preferred Gardens pre-roll (Lemon Tree)1 gram - $10.00012345678910111213141516171819202122232425262728Price is $10 out the door\, taxes included.\nStrain: Lemon Tree. Deal: 3 prerolls for $25Preferred Gardens pre-roll (OG Marker)1 gram - $10.00012345678910111213141516171819202122232425262728Price is $10 out the door\, taxes included.\nStrain: OG Marker. Deal: 3 prerolls for $25Total Amount$0.00Submit  \nRelated images: \n 
URL:https://sfspacewalk.com/event/terpnami-pre-party-dec-5-moe-greens/
LOCATION:Moe Greens Dispensary & Lounge\, 1276 Market St\, San Francisco\, CA\, 94102\, United States
CATEGORIES:Public
ATTACH;FMTTYPE=image/png:https://sfspacewalk.com/wp-content/uploads/2025/11/Drop-Party-flyer-v11.4-square.png
ORGANIZER;CN="David Downs Presents":MAILTO:daviddownspresents@pm.me
END:VEVENT
BEGIN:VEVENT
DTSTART;TZID=America/Los_Angeles:20251206T120000
DTEND;TZID=America/Los_Angeles:20251206T170000
DTSTAMP:20260423T052454
CREATED:20250513T050334Z
LAST-MODIFIED:20251015T211927Z
UID:10545-1765022400-1765040400@sfspacewalk.com
SUMMARY:Terpnami seed show 2025 - Day 1 - Free RSVP
DESCRIPTION:Terpnami seed show returns to San Francisco Saturday-Sunday\, December 6 and 7; with over 30 of the world’s best breeders; plus DJs\, food\, art\, and culture.\nFree RSVPs are now closed.\n$5 tickets are now available.\n 
URL:https://sfspacewalk.com/event/terpnami-2025-day-1/
LOCATION:CA
CATEGORIES:Public
ATTACH;FMTTYPE=image/png:https://sfspacewalk.com/wp-content/uploads/2024/09/TERPNAMIAtmospheric.png
END:VEVENT
BEGIN:VEVENT
DTSTART;TZID=America/Los_Angeles:20251206T120000
DTEND;TZID=America/Los_Angeles:20251207T170000
DTSTAMP:20260423T052454
CREATED:20251015T212419Z
LAST-MODIFIED:20251207T061343Z
UID:12953-1765022400-1765126800@sfspacewalk.com
SUMMARY:Terpnami Seed Show - $5 Ticket - Good either day
DESCRIPTION:Tickets are $5. $10 at the door. Good for either day. \nHit the ‘+’ button in the ticket window below\, select how many tickets you want\, and then hit the ‘check out now’ button. \nFor more details\, read the Terpnami 2025 Official Show Program
URL:https://sfspacewalk.com/event/terpnami-seed-show-day-1-5-ticket/
LOCATION:CA
CATEGORIES:Public
ATTACH;FMTTYPE=image/jpeg:https://sfspacewalk.com/wp-content/uploads/2025/07/social-card-of-sponsors-web-optimized-scaled.jpeg
ORGANIZER;CN="David Downs Presents":MAILTO:daviddownspresents@pm.me
END:VEVENT
BEGIN:VEVENT
DTSTART;TZID=America/Los_Angeles:20251206T170000
DTEND;TZID=America/Los_Angeles:20251206T200000
DTSTAMP:20260423T052454
CREATED:20251119T055827Z
LAST-MODIFIED:20251204T163433Z
UID:13691-1765040400-1765051200@sfspacewalk.com
SUMMARY:Private VIP+Exhibitor After-Party for Terpnami
DESCRIPTION:VIPs and exhibitors gather for an after-party at a private location in SOMA from 5 to 8 p.m. With music\, drinks\, and food. Hosted by 12 Jays of Christmas. Powered in part by The Bryantist\, Dr. Dabber Ghost2\, First Cut Farms\, David Downs Presents\, and others. Email david@sfspacewalk.com to sponsor. \n \n \n \n \n 
URL:https://sfspacewalk.com/event/private-vipexhibitor-after-party-for-terpnami/
LOCATION:CA
CATEGORIES:Public
ATTACH;FMTTYPE=image/png:https://sfspacewalk.com/wp-content/uploads/2025/09/StarTerpnami_logoo_forLightBackgrounds-scaled.png
ORGANIZER;CN="David Downs Presents":MAILTO:daviddownspresents@pm.me
END:VEVENT
BEGIN:VEVENT
DTSTART;TZID=America/Los_Angeles:20251207T120000
DTEND;TZID=America/Los_Angeles:20251207T170000
DTSTAMP:20260423T052454
CREATED:20250513T050615Z
LAST-MODIFIED:20251015T214123Z
UID:10547-1765108800-1765126800@sfspacewalk.com
SUMMARY:Terpnami seed show 2025 - Day 2 - Free RSVP
DESCRIPTION:Terpnami seed show returns to San Francisco Saturday-Sunday\, December 6 and 7; with over 30 of the world’s best breeders; plus DJs\, food\, art\, and culture.\nFree RSVPs are now closed. Tickets are now $5 for a limited time. Click here to purchase a ticket.\nTap here to read more details on Terpnami 2025.
URL:https://sfspacewalk.com/event/terpnami-2025-day-2/
LOCATION:CA
CATEGORIES:Public
ATTACH;FMTTYPE=image/png:https://sfspacewalk.com/wp-content/uploads/2024/09/TERPNAMIAtmospheric.png
ORGANIZER;CN="David Downs Presents":MAILTO:daviddownspresents@pm.me
END:VEVENT
END:VCALENDAR