BEGIN:VCALENDAR
VERSION:2.0
PRODID:-//SF Space Walk - ECPv6.15.20//NONSGML v1.0//EN
CALSCALE:GREGORIAN
METHOD:PUBLISH
X-WR-CALNAME:SF Space Walk
X-ORIGINAL-URL:https://sfspacewalk.com
X-WR-CALDESC:Events for SF Space Walk
REFRESH-INTERVAL;VALUE=DURATION:PT1H
X-Robots-Tag:noindex
X-PUBLISHED-TTL:PT1H
BEGIN:VTIMEZONE
TZID:America/Los_Angeles
BEGIN:DAYLIGHT
TZOFFSETFROM:-0800
TZOFFSETTO:-0700
TZNAME:PDT
DTSTART:20230312T100000
END:DAYLIGHT
BEGIN:STANDARD
TZOFFSETFROM:-0700
TZOFFSETTO:-0800
TZNAME:PST
DTSTART:20231105T090000
END:STANDARD
BEGIN:DAYLIGHT
TZOFFSETFROM:-0800
TZOFFSETTO:-0700
TZNAME:PDT
DTSTART:20240310T100000
END:DAYLIGHT
BEGIN:STANDARD
TZOFFSETFROM:-0700
TZOFFSETTO:-0800
TZNAME:PST
DTSTART:20241103T090000
END:STANDARD
BEGIN:DAYLIGHT
TZOFFSETFROM:-0800
TZOFFSETTO:-0700
TZNAME:PDT
DTSTART:20250309T100000
END:DAYLIGHT
BEGIN:STANDARD
TZOFFSETFROM:-0700
TZOFFSETTO:-0800
TZNAME:PST
DTSTART:20251102T090000
END:STANDARD
END:VTIMEZONE
BEGIN:VEVENT
DTSTART;TZID=America/Los_Angeles:20240714T113000
DTEND;TZID=America/Los_Angeles:20240714T163000
DTSTAMP:20260424T193103
CREATED:20240521T072440Z
LAST-MODIFIED:20240710T081031Z
UID:2345-1720956600-1720974600@sfspacewalk.com
SUMMARY:SF Hash Week - Day 5 - Budtenders Brunch
DESCRIPTION:Sunday\, July 14 — 11:30 a.m. to 4:30 p.m. in SOMA SF—Bundtenders-only brunch with\, light snacks\, dabs\, and gifts as a thank you to our wonderful cannabis clerks. With MC Ngaio Bealum; DJ Victor Vega; Hash and Dash breakfast sandwiches; and more. \n \n \n(Conor Buckley/SFWW)
URL:https://sfspacewalk.com/event/sf-hash-week-day-5-budtenders-brunch/
LOCATION:Meadow HQ\, 60 13th St\, San Francisco\, CA\, 94103\, United States
CATEGORIES:Public
ATTACH;FMTTYPE=image/jpeg:https://sfspacewalk.com/wp-content/uploads/2024/04/budtenders-learn-about-sunset-connect-Large.jpeg
ORGANIZER;CN="David Downs":MAILTO:david@sfspacewalk.com
END:VEVENT
BEGIN:VEVENT
DTSTART;TZID=America/Los_Angeles:20240714T150000
DTEND;TZID=America/Los_Angeles:20240714T170000
DTSTAMP:20260424T193103
CREATED:20240630T222558Z
LAST-MODIFIED:20240701T065011Z
UID:2783-1720969200-1720976400@sfspacewalk.com
SUMMARY:SF Hash Week - Day 5 - HolyWater at Urbana Mission
DESCRIPTION:Award-winning extract brand HolyWater pops up at Urbana off Mission for dabs and hash holes\, and more. \nHolyWater is an award-winning extract brand in California known for their dabs\, and infused pre-rolls dubbed HolySmokes—with collabs from Deep East\, and Wizard Trees. \nUrbana off Mission is this really nice legal smoking spot off 30th and Mission in The Mission District of San Francisco. \nTogether\, you get a lovely afternoon of terps\, tastes\, vibes\, and amazing southern food next door at The Front Porch. \nSF Hash Week is like SF Beer Week or SF Restaurant Week—but for hash. The core is 7 elite hashmakers releasing 7 legendary dabs at 7 legal lounges over 7 nights\, starting on 7/10. \nView the full Festival Guide.
URL:https://sfspacewalk.com/event/sf-hash-week-day-5-holywater-at-urbana-mission/
LOCATION:Urbana on Mission\, 33 29th St.\, San Francisco\, CA\, 94110\, United States
CATEGORIES:Public
ORGANIZER;CN="David Downs":MAILTO:david@sfspacewalk.com
END:VEVENT
BEGIN:VEVENT
DTSTART;TZID=America/Los_Angeles:20240714T160000
DTEND;TZID=America/Los_Angeles:20240714T200000
DTSTAMP:20260424T193103
CREATED:20240521T072052Z
LAST-MODIFIED:20240701T065320Z
UID:2340-1720972800-1720987200@sfspacewalk.com
SUMMARY:SF Hash Week - Day 5 - Dab-E-Oke Karaoke and Dabs
DESCRIPTION:Karaoke. Dabs. Japanese stoner food. Friends. Good times. For four hours on a Sunday afternoon. From the makers of SF Hash Week. (Buy a seat at the event) \n\n\n\n\n\n\n\n\nScoop a seat for yourself and a friend and come on down to SF Hash Week Dab-E-Oke—karaoke\, dabs\, Japanese stoner food\, and fun with friends. \n$150 a seat gets you 4 hours of karaoke\, gyoza\, karaage\, katsu curry\, spam musubi in a banquet room with a VIP room. Drinks a la carte. \nAsian fusion restaurant with Hawaiian Japanese vibes. \nBring your own dabs\, or pre-order from Marina Greens menu. \nLimit 30 seats. \nGreat for cannabis industry team building! Treat your whole team and have some laughs. \n\n\n\n\n\n\n\n\n\n\n\n21+. Valid ID required. Casual dress code. Credit cards accepted. On-street parking. Closest Muni stop Post/Van Ness.\nYourself and personal effects\, as well as your dab rig or puffco.\n\n\n\n(SF Weed Week)
URL:https://sfspacewalk.com/event/sf-hash-week-day-5-dab-e-oke-karaoke-and-dabs/
LOCATION:Private Banquet Room\, Van Ness\, San Francisco\, United States
CATEGORIES:Public
ATTACH;FMTTYPE=image/jpeg:https://sfspacewalk.com/wp-content/uploads/2024/06/SF-Hash-Weed-horizontal-teaser-smol.jpg
ORGANIZER;CN="David Downs":MAILTO:david@sfspacewalk.com
END:VEVENT
END:VCALENDAR