BEGIN:VCALENDAR
VERSION:2.0
PRODID:-//SF Space Walk - ECPv6.15.20//NONSGML v1.0//EN
CALSCALE:GREGORIAN
METHOD:PUBLISH
X-ORIGINAL-URL:https://sfspacewalk.com
X-WR-CALDESC:Events for SF Space Walk
REFRESH-INTERVAL;VALUE=DURATION:PT1H
X-Robots-Tag:noindex
X-PUBLISHED-TTL:PT1H
BEGIN:VTIMEZONE
TZID:America/Los_Angeles
BEGIN:DAYLIGHT
TZOFFSETFROM:-0800
TZOFFSETTO:-0700
TZNAME:PDT
DTSTART:20240310T100000
END:DAYLIGHT
BEGIN:STANDARD
TZOFFSETFROM:-0700
TZOFFSETTO:-0800
TZNAME:PST
DTSTART:20241103T090000
END:STANDARD
BEGIN:DAYLIGHT
TZOFFSETFROM:-0800
TZOFFSETTO:-0700
TZNAME:PDT
DTSTART:20250309T100000
END:DAYLIGHT
BEGIN:STANDARD
TZOFFSETFROM:-0700
TZOFFSETTO:-0800
TZNAME:PST
DTSTART:20251102T090000
END:STANDARD
BEGIN:DAYLIGHT
TZOFFSETFROM:-0800
TZOFFSETTO:-0700
TZNAME:PDT
DTSTART:20260308T100000
END:DAYLIGHT
BEGIN:STANDARD
TZOFFSETFROM:-0700
TZOFFSETTO:-0800
TZNAME:PST
DTSTART:20261101T090000
END:STANDARD
END:VTIMEZONE
BEGIN:VEVENT
DTSTART;TZID=America/Los_Angeles:20250404T170000
DTEND;TZID=America/Los_Angeles:20250404T200000
DTSTAMP:20260423T211141
CREATED:20250127T153628Z
LAST-MODIFIED:20250331T072412Z
UID:5725-1743786000-1743796800@sfspacewalk.com
SUMMARY:Opening night—'Get to the Bag' powered by TerpLoc cannabis art show
DESCRIPTION:Opening night ”Get to the Bag‘ powered by TerpLoc‘ cannabis art show.\nRSVP at the bottom.\nFriday\, April 4\, 5 to 9 p.m. Mirus Gallery 3rd floor and roof\, 540 Howard St. (Temple nightclub building)\nView the story of cannabis liberation and commercialization as told through over 1\,500 cannabis packaging designs that span decades and continents. Cannabis ‘mylar’ art is the modern inheritor to the ’60s rock poster.\nPublic reception with food and drink. Raffle. Artist chat. Tables from top brands.\nFill out the Magazine Pre-order Form here:\nPlease enable JavaScript in your browser to complete this form.Please enable JavaScript in your browser to complete this form.Name *FirstLast		\n			name magazine Pickup\n			\n		\n		Email *Pickup name \nArt show magazine1 signed copy - $20.00012345Full-color\, glossy\, hand-bound. Designed by Conor Buckley. Photos by Keith Woody.\nPrinted by Alpha Graphics—Mission.\nPick up your reserved copy at 540 Howard St.\, Mirus Gallery\, 4:20 p.m. on Friday\, April 4 until 8 p.m. that night. Bring CASH. Only 40 will ever be made.Total Amount$0.00Pick up your reserved copy at 540 Howard St.\, Mirus Gallery\, 4:20 p.m. on Friday\, April 4 until 8 p.m. that night. Bring CASH. Submit  \nJackie Simion models the rainbow wall. (David Downs)\nThe Mirus rooftop. (David Downs)\n‘Get to the Bag’ party\, 2024. (David Downs)\nRead more in the Festival Guide.
URL:https://sfspacewalk.com/event/opening-night-get-to-the-bag-mylar-art-show/
LOCATION:Mirus Gallery\, 540 Howard St 3rd fl\, San Francisco\, CA\, 94105\, United States
CATEGORIES:Public
ATTACH;FMTTYPE=image/png:https://sfspacewalk.com/wp-content/uploads/2025/03/Screenshot-2025-03-29-at-6.45.51-AM.png
ORGANIZER;CN="David Downs":MAILTO:david@sfspacewalk.com
END:VEVENT
END:VCALENDAR