BEGIN:VCALENDAR
VERSION:2.0
PRODID:-//SF Space Walk - ECPv6.15.20//NONSGML v1.0//EN
CALSCALE:GREGORIAN
METHOD:PUBLISH
X-WR-CALNAME:SF Space Walk
X-ORIGINAL-URL:https://sfspacewalk.com
X-WR-CALDESC:Events for SF Space Walk
REFRESH-INTERVAL;VALUE=DURATION:PT1H
X-Robots-Tag:noindex
X-PUBLISHED-TTL:PT1H
BEGIN:VTIMEZONE
TZID:America/Los_Angeles
BEGIN:DAYLIGHT
TZOFFSETFROM:-0800
TZOFFSETTO:-0700
TZNAME:PDT
DTSTART:20250309T100000
END:DAYLIGHT
BEGIN:STANDARD
TZOFFSETFROM:-0700
TZOFFSETTO:-0800
TZNAME:PST
DTSTART:20251102T090000
END:STANDARD
BEGIN:DAYLIGHT
TZOFFSETFROM:-0800
TZOFFSETTO:-0700
TZNAME:PDT
DTSTART:20260308T100000
END:DAYLIGHT
BEGIN:STANDARD
TZOFFSETFROM:-0700
TZOFFSETTO:-0800
TZNAME:PST
DTSTART:20261101T090000
END:STANDARD
BEGIN:DAYLIGHT
TZOFFSETFROM:-0800
TZOFFSETTO:-0700
TZNAME:PDT
DTSTART:20270314T100000
END:DAYLIGHT
BEGIN:STANDARD
TZOFFSETFROM:-0700
TZOFFSETTO:-0800
TZNAME:PST
DTSTART:20271107T090000
END:STANDARD
END:VTIMEZONE
BEGIN:VEVENT
DTSTART;TZID=America/Los_Angeles:20260402T170000
DTEND;TZID=America/Los_Angeles:20260402T200000
DTSTAMP:20260423T010036
CREATED:20260105T174621Z
LAST-MODIFIED:20260402T175651Z
UID:14554-1775149200-1775160000@sfspacewalk.com
SUMMARY:SF Space Walk 2026 - B2B Reception
DESCRIPTION:A private\, downtown rooftop reception for licensed cannabis retail buyers\, owners and managers ONLY.  RSVP below. \nVALID store buyers\, owners\, managers\, please.\nArt show\, music\, snacks and refreshments\, networking\, and business solutions.\nThursday\, April 2\, 2026 – 5 p.m.-8 p.m.\nMirus Gallery\, 3rd Floor\, 540 Howard St.\nFeaturing:\nFirst Cut Farms—debuting their new Vietnamese sativa flower and extracts; as well as Blue Dream\, Black Cherry Gelato pressed sift. California State Fair Cannabis Awards (2022) silver medalist for “Limeadelic.” \nShasta Flower and Hash Company—Award-winning live rosin pens and more. Northern California\, mountain-grown cannabis brand focused on fire flower and true solventless hash. Small-Batch\, First Wash Only\, Single Source. First Place Overall Rosin @ Cannifest 2024\nFirst Place Cartridges + Third Place Sativa Flower@ California’s Finest Cannabis Competition 2024. Runner-up Best Indoor Flower 2025\, California Leaf Bowl. \nThat Good Good: Small-batch\, sun-kissed flower with a fanatical focus on flavor\, freshness\, and smoothness. MJBowl 2025 (California) — Flower\, Mixed Light: MVP (1st Place) for “Glitter Bomb.” See their wholesale menu on Nabis. \n \n“The Luci Hash Co. team has 25+ years of industry experience. We extract only high quality selected and tested cannabis strains from Northern California’s premiere resin growing terroirs in Nevada County\, Calaveras County and Mendocino County. Luci is dropping 6 new 73-119ų top tier rosins from the season\, Orangmintz x papaya\, Purple ice water\, Candy fumez #5\, Papaya\, Grape gas and Hashburger.” \n \nHigh Top is committed to crafting premium live hash rosin with fresh frozen cannabis sourced from the greatest cultivators throughout California.  \n \nSkypack is an indoor cannabis cultivator built by legacy operators with decades of experience\, known for producing high-grade flower long before legalization and later supplying respected brands like Cookies and Sherbinskis. The company emphasizes consistent quality through multi-tier cultivation\, weekly harvests\, and careful hand-trimming and curing\, while now focusing on bringing its own top-shelf flower directly to dispensaries. Rooted in cannabis culture\, Skypack positions itself as a trusted\, quality-first brand delivering fresh\, hand-graded buds with a strong sense of heritage and craft. \n \nSnowtill—Top-Shelf\, Living-Soil Cannabis\, grown in San Francisco. \n \nThe Pairist produces award winning pre-rolls and flower products\, partnering with California’s finest craft cannabis farms. \n \nVenue sponsor Grove Bags—get in touch with Grove Bags to start your order. \nA prelude to SF Space Walk—San Francisco’s SXSW of weed. Built around 7 nights of the state’s best flower growers dropping new flowers all around town; plus much more. \nParticipating growers include: Sense\, Snowtill\, Sunset Connect\, Moon Valley\, Umma Sonoma\, Wood Wide Farms\, Bosky and more. \nParticipating lounges include: Solful\, Moe Greens\, Mission Cannabis Club\, Russian Hill Cannabis Club\, Fig+Thistle\, 7 Stars\, and more. \nThe Mirus Gallery rooftop. (David Downs Presents)\n(Mirus Gallery)\nPhoto by Mike Rosati for David Downs Presents)\nCustom mixes and visuals from DJ Stefan\nRead the full SF Space Walk 2026 Festival Guide
URL:https://sfspacewalk.com/event/sf-space-walk-2026-b2b-night/
LOCATION:Mirus Gallery\, 540 Howard St 3rd fl\, San Francisco\, CA\, 94105\, United States
CATEGORIES:Public
ATTACH;FMTTYPE=image/jpeg:https://sfspacewalk.com/wp-content/uploads/2026/01/Untitled-e1771377242888.jpeg
ORGANIZER;CN="David Downs Presents":MAILTO:daviddownspresents@pm.me
END:VEVENT
END:VCALENDAR