BEGIN:VCALENDAR
VERSION:2.0
PRODID:-//SF Space Walk - ECPv6.15.20//NONSGML v1.0//EN
CALSCALE:GREGORIAN
METHOD:PUBLISH
X-WR-CALNAME:SF Space Walk
X-ORIGINAL-URL:https://sfspacewalk.com
X-WR-CALDESC:Events for SF Space Walk
REFRESH-INTERVAL;VALUE=DURATION:PT1H
X-Robots-Tag:noindex
X-PUBLISHED-TTL:PT1H
BEGIN:VTIMEZONE
TZID:America/Los_Angeles
BEGIN:DAYLIGHT
TZOFFSETFROM:-0800
TZOFFSETTO:-0700
TZNAME:PDT
DTSTART:20230312T100000
END:DAYLIGHT
BEGIN:STANDARD
TZOFFSETFROM:-0700
TZOFFSETTO:-0800
TZNAME:PST
DTSTART:20231105T090000
END:STANDARD
BEGIN:DAYLIGHT
TZOFFSETFROM:-0800
TZOFFSETTO:-0700
TZNAME:PDT
DTSTART:20240310T100000
END:DAYLIGHT
BEGIN:STANDARD
TZOFFSETFROM:-0700
TZOFFSETTO:-0800
TZNAME:PST
DTSTART:20241103T090000
END:STANDARD
BEGIN:DAYLIGHT
TZOFFSETFROM:-0800
TZOFFSETTO:-0700
TZNAME:PDT
DTSTART:20250309T100000
END:DAYLIGHT
BEGIN:STANDARD
TZOFFSETFROM:-0700
TZOFFSETTO:-0800
TZNAME:PST
DTSTART:20251102T090000
END:STANDARD
END:VTIMEZONE
BEGIN:VEVENT
DTSTART;TZID=America/Los_Angeles:20240710T113000
DTEND;TZID=America/Los_Angeles:20240710T143000
DTSTAMP:20260423T154913
CREATED:20240511T083408Z
LAST-MODIFIED:20240701T063912Z
UID:2261-1720611000-1720621800@sfspacewalk.com
SUMMARY:SF Hash Week - Opening Day - Royal Key releases Black Rainbow Piss Rosin
DESCRIPTION:Royal Key will fulfill delivery orders for Black Rainbow Piss hash rosin at 11:30 a.m. at a private venue in San Francisco — Chronic Culture HQ. Because you can’t smoke hash all day unless you start in the morning.\n“Established in 2016 as a legacy\, owner-operated boutique facility in Arcata – Humboldt County – CA\, Royal Key combines traditional craftsmanship with a relentless pursuit of perfection. Our commitment to quality and sustainability is rooted in our practice of cultivating micro-lots of indoor organic flowers in living soil beds. Our selection of whole cured flowers\, solventless live rosin\, and full melt reflects our devotion to preservation and value of traditional offerings over trends.” \n(Conor Buckley/SFWW)
URL:https://sfspacewalk.com/event/suprize-suprize-black-rainbow-piss-rosin/
LOCATION:CA
CATEGORIES:Public
ORGANIZER;CN="David Downs":MAILTO:david@sfspacewalk.com
END:VEVENT
BEGIN:VEVENT
DTSTART;TZID=America/Los_Angeles:20240612T120000
DTEND;TZID=America/Los_Angeles:20240612T180000
DTSTAMP:20260423T154913
CREATED:20240606T051134Z
LAST-MODIFIED:20240610T205038Z
UID:2517-1718193600-1718215200@sfspacewalk.com
SUMMARY:California Hash Exchange - B2B Extract Buyers/Sellers Showcase
DESCRIPTION:Stock up for 7/10 with SF Hash Week’s B2B wholesale exchange. Featuring 40+ store buyers\, and 40+ hashsellers in SF with all the amenities. \nAgenda\n12:00 PM – 1:00 PM — Press Conference \n1:00 P.M. to 6:00 P.M. — Buyers and Sellers do their thang. \n3:00 P.M. to 6:00 P.M. — DJ Victor Vega spins dub beats to support the deal flow. \nAbout this event\n\n\nCannabis dispensary buyers meet California licensed extract makers/sellers to stock up for 710 Oil Day at Meadow HQ. Meadow is a leading cannabis tech platform. ‘710’ is oil spelled upside down—the official hash holiday. It arrives July 10. \nWith Tables from: \n\nNasha Extracts (new rosin bars)\nSauce\nAzazzy (new Whitethorn Rose rosin)\nHash and Flowers / Mountain Man Melts / Forte\nEmber Valley (new live resin) and 2 other hot brands. (See rate card.)\n\nConfirmed Buyers include: \n\nMarina Greens\nPurple Star\nElevated\nJane Dispensary\n7 Stars Richmond\nPark Social Alameda\nAirfield Supply Co\nCannabist\nThe Green Cross\nThe Vapor Room\nMedithrive\nHi-Fidelity\nOff the Charts\nSolful\nElevated 7\nFlore\nHyrba\nStiiizy\nand 25 more Buyers expected\n\nSeller RSVPs include: \n\nRevive Sun+Earth Certified hash\nErrl Hill\nRedwood Roots\nDelta Boyz\nTurle Pie\nEmber Valley\n710 Labs\nHolyWater\nCLSICS\nJetty\nOakland Extracts\nTahoe Honey Co\nMOCA Humboldt\nStiiizy\nand dozens more brands expected\n\nElegant Beats for the Dealflow from: DJ Victor Vega \nFood and drink from: Chronic Kitchen \nHash Macro Photo Art from: Kandid Kush \nHotel Discount partner: To Be Announced. \nWhat to expect: \nSellers—Show valid credentials\, pay a service fee of $5 per buyer. Bring samples in a (1) backpack\, sales sheets\, pens\, and business cards. Park and come in to meet buyers\, show samples for review on the open-air patio\, take sales orders and make new connections. \nBuyers—Bring business cards and extract needs. Park and come in to meet sellers\, review samples on the open-air patio\, and make plans to stock up for 7/10. \nThis is an ordering event for later fulfillment. No on-site transfers. \n\n\n\n\n\n\n\n  \n  \n \n \nFrequently Asked Questions\nWhat should I expect? \nSellers—bring samples\, sales sheets\, pens\, and business cards. Park and come in to meet buyers\, show samples for review on the open-air patio. Buyers—Bring business cards and extract needs. Park and come in to meet sellers\, review samples on the open-air patio\, and make plans to stock up. \nAre there sales? \nThis is an ordering event for later fulfillment via METRC. No on-site transfers. \nWhat is SF Hash Week? \nSF Hash Week runs 7.10 to 7.17 and includes 7 hash gods dropping 7 legendary hashes at 7 golden lounges over 7 nights. Read more at www.sfweedweek.com. \nIs this open to the public? \nNo. Licensees only. We will validate all credentials and cancel invalid RSVPS. Sellers can expect to pay a Service Fee of $5 per Store Buyer for reaching 40 Buyers. \nWhat forms of credentials are valid? \nFor Buyers: Store business card. Image of store badge. Store email. Etc. For sellers: Business card\, or image of badge\, and license number. \nIs there a dress code? \nNope! Comes as your are\, as you were\, as you want to be. \nIs parking available? Do you have bike storage? \nOn-street parking. Yes we have bike storage. \nCan I get there from Muni/BART? \nYes. The closest station is Market and Van Ness. \nWhat am I allowed to bring into the venue? \nYour person and effects. Sellers without a table may bring 1 backpack and colleague. Buyers—bring whatever you need.
URL:https://sfspacewalk.com/event/california-hash-exchange-b2b-extract-buyers-sellers-showcase/
LOCATION:Meadow HQ\, 60 13th St\, San Francisco\, CA\, 94103\, United States
CATEGORIES:B2B
ATTACH;FMTTYPE=image/jpeg:https://sfspacewalk.com/wp-content/uploads/2024/06/SFHW_blog-header-image-smol.jpg
ORGANIZER;CN="David Downs":MAILTO:david@sfspacewalk.com
END:VEVENT
END:VCALENDAR