BEGIN:VCALENDAR
VERSION:2.0
PRODID:-//SF Space Walk - ECPv6.15.20//NONSGML v1.0//EN
CALSCALE:GREGORIAN
METHOD:PUBLISH
X-WR-CALNAME:SF Space Walk
X-ORIGINAL-URL:https://sfspacewalk.com
X-WR-CALDESC:Events for SF Space Walk
REFRESH-INTERVAL;VALUE=DURATION:PT1H
X-Robots-Tag:noindex
X-PUBLISHED-TTL:PT1H
BEGIN:VTIMEZONE
TZID:America/Los_Angeles
BEGIN:DAYLIGHT
TZOFFSETFROM:-0800
TZOFFSETTO:-0700
TZNAME:PDT
DTSTART:20240310T100000
END:DAYLIGHT
BEGIN:STANDARD
TZOFFSETFROM:-0700
TZOFFSETTO:-0800
TZNAME:PST
DTSTART:20241103T090000
END:STANDARD
BEGIN:DAYLIGHT
TZOFFSETFROM:-0800
TZOFFSETTO:-0700
TZNAME:PDT
DTSTART:20250309T100000
END:DAYLIGHT
BEGIN:STANDARD
TZOFFSETFROM:-0700
TZOFFSETTO:-0800
TZNAME:PST
DTSTART:20251102T090000
END:STANDARD
BEGIN:DAYLIGHT
TZOFFSETFROM:-0800
TZOFFSETTO:-0700
TZNAME:PDT
DTSTART:20260308T100000
END:DAYLIGHT
BEGIN:STANDARD
TZOFFSETFROM:-0700
TZOFFSETTO:-0800
TZNAME:PST
DTSTART:20261101T090000
END:STANDARD
END:VTIMEZONE
BEGIN:VEVENT
DTSTART;TZID=America/Los_Angeles:20250416T160000
DTEND;TZID=America/Los_Angeles:20250416T190000
DTSTAMP:20260424T020444
CREATED:20250127T151817Z
LAST-MODIFIED:20250412T040029Z
UID:5708-1744819200-1744830000@sfspacewalk.com
SUMMARY:SF Space Walk – Day 3 — 710 Labs and Snowtill at 7 Stars | Exit Now
DESCRIPTION:SF Space Walk – Day 3 — 710 Labs and Snowtill drop party at 7 Stars | Exit Now\nWednesday\, April 16\, 4 p.m. to 7 p.m.\, 7 Stars | Exit Now 3219 Pierce St. Richmond\, CA.\nSF Space Walk heads to the East Bay for Day 3 with award-winning indoor from national cannabis icon 710 Labs\, and boutique San Francisco indoor living soil grower Snowtill. Both appear live for a meet and greet\, and interview.\n710 Labs is bringing a fresh batch of top-shelf Donny Burger.\nCalifornia State Fair Gold medal-winning Snowtill drops his strain “Mirage” (Lemon G x Mystery Ohio cut).\n7 Stars is right off I-80 in Richmond\, or walkable by BART. Exit Now is a private event space next door to the club.\nPre-orders are now live. Use this form:\nPlease enable JavaScript in your browser to complete this form.Please enable JavaScript in your browser to complete this form.Name *FirstLastEmail *Pickup name		\n			name drop Snowtill\n			\n		\n		 \nYour order comes with: \n\na reception\, beats\, bevs\, and bites\nan SF Space Walk merch pack (for 1st 40 orders)\nsee more stuff below\n\nSnowtill drop party strainMirage 3.5g jar - $66.00012345678Reserve your jars of Snowtill Mirage.\nMust purchase to enter lounge party.\nExpect beats\, eats\, bevs\, and programming.\nPrice is 'out the door\,' as in\, 'taxes included.' \n710 Labs drop party strainDonny Burger 3.5g jar - $77.00012345678Reserve your jars of 710 Labs Donny Burger. Come down 4/16 after work\, pay\, pickup\, and party.\nMust purchase to enter private party.\nExpect beats\, eats\, bevs\, and programming.\nPrice is 'out the door\,' as in\, 'taxes included.'\nFirst 20 orders get some 710 Labs merch.Total Amount$0.00Submit  \n \n710 Labs’ very highly sought after\, small-batch Z. (Courtesy 710 Labs)\n710 Labs is about quality over everything. They know that the highest THC scores don’t even begin to characterize the best herb\, and they’ll hold back from releasing anything that’s not exemplary. Sought after in California\, Colorado\, Florida\, Michigan and New Jersey—710 Labs excels in extracts and the flowers that power them. They grow in an indoor\, Oakland\, CA facility. Their noted genetics include C. Chrome\, Rainbow Belts\, Z and Date Night (Peanut Butter Breath x Shallot Sashimi). 710 Labs also operates ‘The List‘—a connoisseur’s high-end set aside of their best\, most exclusive batches from each month’s production along with a curated menu. \n  \n \nWhite Truffle grown by Snowtill. (David Downs)\nSan Francisco’s indoor living soil grower and winner of California State Fair gold medal—Snowtill meets his audience with his favorite strain Mirage (Lemon G x Mystery Ohio Cut). Bucking the trend in mega-scale\, inorganic commodity pot\, Snowtill grows indoors in no-till soil in San Francisco. Soil-grown cannabis can have more flavor and stronger effects than less natural methods. Snowtill is known for strains like Piescream\, Grumpy Tiger\, Motorbreath OG\, and J1. Joe’s an exacting\, uncompromising\, passionate plant artist and it shows in his work. You see it in his unique selections like Gouda—a Cheese cross\, and Strawberry Goo. \n7 Stars interior. Richmond\, CA.\nWhat happens at a drop party?\nIt’s like a record release party\, but for a rock star weed grower. You RSVP to receive a pre-order link\, reserve your jars\, go down for the party\, pick up\, meet and smoke with the weed celebs\, listen to an expert interview\, and have a good time. Free merch\, beats\, and treats. \nRead more about the strain\, brand\, and venue in the Festival Guide
URL:https://sfspacewalk.com/event/sf-space-walk-day-3-snowtill-and-710-labs-at-7-stars-exit-now/
LOCATION:7 Stars\, Exit Now\, 3223 Pierce St.\, Richmond\, CA\, 94804\, United States
CATEGORIES:Public
ATTACH;FMTTYPE=image/webp:https://sfspacewalk.com/wp-content/uploads/2025/01/sf-sw-25-teaser-2-web-710-and_snowtill.webp
ORGANIZER;CN="David Downs":MAILTO:david@sfspacewalk.com
END:VEVENT
END:VCALENDAR