BEGIN:VCALENDAR
VERSION:2.0
PRODID:-//SF Space Walk - ECPv6.15.20//NONSGML v1.0//EN
CALSCALE:GREGORIAN
METHOD:PUBLISH
X-WR-CALNAME:SF Space Walk
X-ORIGINAL-URL:https://sfspacewalk.com
X-WR-CALDESC:Events for SF Space Walk
REFRESH-INTERVAL;VALUE=DURATION:PT1H
X-Robots-Tag:noindex
X-PUBLISHED-TTL:PT1H
BEGIN:VTIMEZONE
TZID:America/Los_Angeles
BEGIN:DAYLIGHT
TZOFFSETFROM:-0800
TZOFFSETTO:-0700
TZNAME:PDT
DTSTART:20240310T100000
END:DAYLIGHT
BEGIN:STANDARD
TZOFFSETFROM:-0700
TZOFFSETTO:-0800
TZNAME:PST
DTSTART:20241103T090000
END:STANDARD
BEGIN:DAYLIGHT
TZOFFSETFROM:-0800
TZOFFSETTO:-0700
TZNAME:PDT
DTSTART:20250309T100000
END:DAYLIGHT
BEGIN:STANDARD
TZOFFSETFROM:-0700
TZOFFSETTO:-0800
TZNAME:PST
DTSTART:20251102T090000
END:STANDARD
BEGIN:DAYLIGHT
TZOFFSETFROM:-0800
TZOFFSETTO:-0700
TZNAME:PDT
DTSTART:20260308T100000
END:DAYLIGHT
BEGIN:STANDARD
TZOFFSETFROM:-0700
TZOFFSETTO:-0800
TZNAME:PST
DTSTART:20261101T090000
END:STANDARD
END:VTIMEZONE
BEGIN:VEVENT
DTSTART;TZID=America/Los_Angeles:20250406T130000
DTEND;TZID=America/Los_Angeles:20250406T170000
DTSTAMP:20260423T192310
CREATED:20250322T001137Z
LAST-MODIFIED:20250401T175924Z
UID:7633-1743944400-1743958800@sfspacewalk.com
SUMMARY:Budtenders' Thankyou Party at the Meadow HQ
DESCRIPTION:Bay Area budtenders\, enjoy a SOMA district reception as part of SF Space Walk.\nFood\, drink\, beats\, art\, games\, and brand support from Nasha Flowers\, Sunset Connect\, Skypack\, Trichome Gold\, Sluggers\, Sense\, Lost Farm\, and more.\nMeadow HQ\, 60 13th St.\nSunday\, April 6 from 1 p.m. to 5 p.m.\nRSVP BELOW—BADGED BUDTENDERS ONLY\n  \n \nNasha hash on display. (David Downs Presents)\n \nMeadow
URL:https://sfspacewalk.com/event/budtenders-thankyou-party-at-the-mirus-gallery/
LOCATION:Meadow HQ\, 60 13th St\, San Francisco\, CA\, 94103\, United States
CATEGORIES:B2B
ATTACH;FMTTYPE=image/jpeg:https://sfspacewalk.com/wp-content/uploads/2025/01/IMG_6774.jpeg
ORGANIZER;CN="David Downs":MAILTO:david@sfspacewalk.com
END:VEVENT
END:VCALENDAR