BEGIN:VCALENDAR
VERSION:2.0
PRODID:-//SF Space Walk - ECPv6.15.20//NONSGML v1.0//EN
CALSCALE:GREGORIAN
METHOD:PUBLISH
X-WR-CALNAME:SF Space Walk
X-ORIGINAL-URL:https://sfspacewalk.com
X-WR-CALDESC:Events for SF Space Walk
REFRESH-INTERVAL;VALUE=DURATION:PT1H
X-Robots-Tag:noindex
X-PUBLISHED-TTL:PT1H
BEGIN:VTIMEZONE
TZID:America/Los_Angeles
BEGIN:DAYLIGHT
TZOFFSETFROM:-0800
TZOFFSETTO:-0700
TZNAME:PDT
DTSTART:20240310T100000
END:DAYLIGHT
BEGIN:STANDARD
TZOFFSETFROM:-0700
TZOFFSETTO:-0800
TZNAME:PST
DTSTART:20241103T090000
END:STANDARD
BEGIN:DAYLIGHT
TZOFFSETFROM:-0800
TZOFFSETTO:-0700
TZNAME:PDT
DTSTART:20250309T100000
END:DAYLIGHT
BEGIN:STANDARD
TZOFFSETFROM:-0700
TZOFFSETTO:-0800
TZNAME:PST
DTSTART:20251102T090000
END:STANDARD
BEGIN:DAYLIGHT
TZOFFSETFROM:-0800
TZOFFSETTO:-0700
TZNAME:PDT
DTSTART:20260308T100000
END:DAYLIGHT
BEGIN:STANDARD
TZOFFSETFROM:-0700
TZOFFSETTO:-0800
TZNAME:PST
DTSTART:20261101T090000
END:STANDARD
END:VTIMEZONE
BEGIN:VEVENT
DTSTART;TZID=America/Los_Angeles:20250710T190000
DTEND;TZID=America/Los_Angeles:20250710T220000
DTSTAMP:20260423T143554
CREATED:20250529T213028Z
LAST-MODIFIED:20250710T171805Z
UID:11024-1752174000-1752184800@sfspacewalk.com
SUMMARY:SF Hash Week 2025 - Night 3
DESCRIPTION:SF Hash Week 2025 – Night 3 – Moon Valley\, St. Ides\, Punch\, Pistil Whip\, Heshies and more drop party at Green Door SF\nMoon Valley brings a super-special\, 6-star\, full-melt\, small-batch rec drop of SUPER BOOF\nNew drinks\, dabs\, and more at the newly re-opened Green Door.\nThursday\, July 10; 7 p.m. to 10 p.m.\nGreen Door pre-order and purchase required to get the private party invite. \nDrop Party produced by SF Hash Week. \nSF Hash Week is like Beer Week or Restaurant Week—it’s 7 nights of the state’s best hashmakers dropping new dabs all around town; plus\, a Warehouse Party\, July 11 in the Dogpatch District. Participating: Kalya\, Nasha\, Fire King\, 710 Labs\, Errl Hill\, Jetty\, Kiva\, Purple City Genetics\, Rosin Tech\, Gold Drop\, Oakland Extracts\, Trichome Gold\, and more. \nA Drop Party is like a record release party\, but for a popular hash brand. Expect music\, food\, merch\, collectibles\, and community. \nPlease enable JavaScript in your browser to complete this form.Please enable JavaScript in your browser to complete this form.Name *FirstLastEmail *Pickup nameYour order comes with: \n\na reception\, beats\, bevs\, and bites\nan SF Hash Week merch pack (for 1st 24 orders)\nsee more stuff below\n\nMoon Valley 6-star\, full-melt Super Boof rec drop\nMoon Valley Super Boof 6-star full-melt hash. (Courtesy Moon Valley) \n		\n			Valley Moon full-melt\n			\n		\n		Moon Valley 6-star\, full-melt Super Boof1-gram full-melt\, unpressed\, frozen - $80.00012345678Genetics: Trop Cherry x Black Cherry Punch\nAwards: Dab-A-Doo\, Emerald Cup\, Transbay Challenge Finals. Price is $80 out the door\, taxes included. A very special project involving super-low retail markup\, just-in-time inventory\, freezers\, and you! Limited to just 24 units! Total Amount$0.00Submit  \nRead our SF Hash Week 2025 Festival Guide
URL:https://sfspacewalk.com/event/sf-hash-week-2025-night-3/
LOCATION:The Green Door\, 843 Howard St\, San Francisco\, CA\, 94103\, United States
CATEGORIES:Public
ATTACH;FMTTYPE=image/jpeg:https://sfspacewalk.com/wp-content/uploads/2025/05/moon-valley-6star-flyer.jpg
ORGANIZER;CN="David Downs Presents":MAILTO:daviddownspresents@pm.me
END:VEVENT
END:VCALENDAR