BEGIN:VCALENDAR
VERSION:2.0
PRODID:-//SF Space Walk - ECPv6.15.20//NONSGML v1.0//EN
CALSCALE:GREGORIAN
METHOD:PUBLISH
X-WR-CALNAME:SF Space Walk
X-ORIGINAL-URL:https://sfspacewalk.com
X-WR-CALDESC:Events for SF Space Walk
REFRESH-INTERVAL;VALUE=DURATION:PT1H
X-Robots-Tag:noindex
X-PUBLISHED-TTL:PT1H
BEGIN:VTIMEZONE
TZID:America/Los_Angeles
BEGIN:DAYLIGHT
TZOFFSETFROM:-0800
TZOFFSETTO:-0700
TZNAME:PDT
DTSTART:20240310T100000
END:DAYLIGHT
BEGIN:STANDARD
TZOFFSETFROM:-0700
TZOFFSETTO:-0800
TZNAME:PST
DTSTART:20241103T090000
END:STANDARD
BEGIN:DAYLIGHT
TZOFFSETFROM:-0800
TZOFFSETTO:-0700
TZNAME:PDT
DTSTART:20250309T100000
END:DAYLIGHT
BEGIN:STANDARD
TZOFFSETFROM:-0700
TZOFFSETTO:-0800
TZNAME:PST
DTSTART:20251102T090000
END:STANDARD
BEGIN:DAYLIGHT
TZOFFSETFROM:-0800
TZOFFSETTO:-0700
TZNAME:PDT
DTSTART:20260308T100000
END:DAYLIGHT
BEGIN:STANDARD
TZOFFSETFROM:-0700
TZOFFSETTO:-0800
TZNAME:PST
DTSTART:20261101T090000
END:STANDARD
END:VTIMEZONE
BEGIN:VEVENT
DTSTART;TZID=America/Los_Angeles:20250415T160000
DTEND;TZID=America/Los_Angeles:20250415T190000
DTSTAMP:20260423T195225
CREATED:20250127T151443Z
LAST-MODIFIED:20250412T032432Z
UID:5705-1744732800-1744743600@sfspacewalk.com
SUMMARY:SF Space Walk - Day 2 - Sense and Sunset Connect at Mission Cannabis Club
DESCRIPTION:SF Space Walk – Day 2 – Sense releases Piescream and Sunset Connect debuts their SF-grown flower at Mission Cannabis Club.\nTuesday\, April 15\, 4 to 7 p.m.\, Mission Cannabis Club\, 2441 Mission St.\nElite SF indoor flower grower Sense brings Piescream\, while SF’s joint kings Sunset Connect debut new rolls and flowers of their own.\nPiescream won six medals at the California State Fair Cannabis Awards 2024.\nAll in Mission Cannabis Club’s swanky lounge on Mission St.\nPre-Orders Are Now Open. First 40 orders get a limited-edition merch kit from SF Space Walk.\nPlease enable JavaScript in your browser to complete this form.Please enable JavaScript in your browser to complete this form.Name *FirstLastEmail *Pickup nameSense MenuPiescream 3.5g jar - $60.00012345678This hybrid from Mean Gene Mendocino\, made from a cross of Wedding Pie x (Gelato 33 x Cherry Limeade F5)\, has loud written all over it. $60 out the door (meaning tax included.)Sunset Connect - Blackberry BubblegumBlackberry Bubblegum 7-gram + pre-roll - $85.00012345678Get Sunset Connect's new SF-grown indoor. Hybrid. Reserve the herb. Come down. Pay. Get into the lounge. Have a ball. $85 out the door (tax included)Sunset Connect - Melted StrawberriesMelted Strawberries - $85.00012345678Get Sunset Connect's new SF-grown indoor. Sativa. GMO X Strawberry Guava. Reserve the herb. Come down. Pay. Get into the lounge. Have a ball. $85 out the door (tax included)Sunset Connect - Gotti BeltzGotti Beltz - $85.00012345678Get Sunset Connect's new SF-grown indoor. Indica. Biscotti x Rainbow Beltz. Reserve the herb. Come down. Pay. Get into the lounge. Have a ball. $85 out the door (tax included)		\n			- Name Bubblegum\n			\n		\n		Total Amount$0.00Submit  \n4/15 is 415 Day! SF all the way!\n \n& \n \nSense cannabis. (David Downs)\nMission Cannabis Club Smoking Lounge\n \nWhat happens at a drop party?\nIt’s like a record release party\, but for a rock star weed grower. You RSVP to receive a pre-order link\, reserve your jars\, go down for the party\, pick up\, meet and smoke with the weed celebs\, listen to an expert interview\, and have a good time. Free merch\, beats\, and treats. \nRead more about the strain\, brand\, and venue in the Festival Guide
URL:https://sfspacewalk.com/event/sf-space-walk-day-2-sense-and-sunset-connect-at-mission-cannabis-club/
LOCATION:Mission Cannabis Club\, 2441 Mission Street\, San Francisco\, CA\, 94110\, United States
CATEGORIES:Public
ATTACH;FMTTYPE=image/webp:https://sfspacewalk.com/wp-content/uploads/2025/01/sf-sw-25-teaser-2-web-sense-and-sunset.webp
END:VEVENT
END:VCALENDAR