BEGIN:VCALENDAR
VERSION:2.0
PRODID:-//SF Space Walk - ECPv6.15.20//NONSGML v1.0//EN
CALSCALE:GREGORIAN
METHOD:PUBLISH
X-WR-CALNAME:SF Space Walk
X-ORIGINAL-URL:https://sfspacewalk.com
X-WR-CALDESC:Events for SF Space Walk
REFRESH-INTERVAL;VALUE=DURATION:PT1H
X-Robots-Tag:noindex
X-PUBLISHED-TTL:PT1H
BEGIN:VTIMEZONE
TZID:America/Los_Angeles
BEGIN:DAYLIGHT
TZOFFSETFROM:-0800
TZOFFSETTO:-0700
TZNAME:PDT
DTSTART:20240310T100000
END:DAYLIGHT
BEGIN:STANDARD
TZOFFSETFROM:-0700
TZOFFSETTO:-0800
TZNAME:PST
DTSTART:20241103T090000
END:STANDARD
BEGIN:DAYLIGHT
TZOFFSETFROM:-0800
TZOFFSETTO:-0700
TZNAME:PDT
DTSTART:20250309T100000
END:DAYLIGHT
BEGIN:STANDARD
TZOFFSETFROM:-0700
TZOFFSETTO:-0800
TZNAME:PST
DTSTART:20251102T090000
END:STANDARD
BEGIN:DAYLIGHT
TZOFFSETFROM:-0800
TZOFFSETTO:-0700
TZNAME:PDT
DTSTART:20260308T100000
END:DAYLIGHT
BEGIN:STANDARD
TZOFFSETFROM:-0700
TZOFFSETTO:-0800
TZNAME:PST
DTSTART:20261101T090000
END:STANDARD
END:VTIMEZONE
BEGIN:VEVENT
DTSTART;TZID=America/Los_Angeles:20250419T150000
DTEND;TZID=America/Los_Angeles:20250419T170000
DTSTAMP:20260423T194652
CREATED:20250127T154214Z
LAST-MODIFIED:20250412T053114Z
UID:5729-1745074800-1745082000@sfspacewalk.com
SUMMARY:SF Space Walk — Day 6 — Moon Valley at The Green Door
DESCRIPTION:SF Space Walk — Day 6 — Moon Valley G-Nut#11 drop party at The Green Door (843 Howard St.)\nSaturday\, April 19\, 3 to 5 p.m.\nPrivate reception for pre-orderers next door.\nOne of San Francisco’s most storied dispensaries returns\, remodeled for the Moscone Center area.\nAward-winning indoor living soil flower grown at scale by Moon Valley in the North Bay.\nRead more about the strain\, brand\, and venue in the Festival Guide.\nPRE-ORDERS ARE NOW OPEN. USE THIS FORM:\nPlease enable JavaScript in your browser to complete this form.Please enable JavaScript in your browser to complete this form.Name *FirstLastEmail *Pickup name		\n			Valley name Moon\n			\n		\n		Moon Valley MenuG-Nut #11 3.5g jar - $45.00012345678Goodie bags for the first 50 purchasers. While supplies last. G-Nut#11 is a GMOB project from Biovortex. The cross is Gmob (#392) x (Hazelnut Cream x Gmob (#392) x Gmob (Bx1)).\nMUST PURCHASE TO ENTER LOUNGE PARTY.\nExpect beats\, eats\, bevs\, and programming.\nTotal Amount$0.00Submit  \n \n \n \nWhat happens at a drop party?\nIt’s like a record release party\, but for a rock star weed grower. You RSVP to receive a pre-order link\, reserve your jars\, go down for the party\, pick up\, meet and smoke with the weed celebs\, and have a good time.
URL:https://sfspacewalk.com/event/sf-space-walk-day-6-to-be-announced/
LOCATION:The Green Door\, 843 Howard St\, San Francisco\, CA\, 94103\, United States
CATEGORIES:Public
ATTACH;FMTTYPE=image/webp:https://sfspacewalk.com/wp-content/uploads/2025/01/sf-sw-25-teaser-2-web-moon-valley.webp
ORGANIZER;CN="David Downs":MAILTO:david@sfspacewalk.com
END:VEVENT
END:VCALENDAR