BEGIN:VCALENDAR
VERSION:2.0
PRODID:-//SF Space Walk - ECPv6.15.20//NONSGML v1.0//EN
CALSCALE:GREGORIAN
METHOD:PUBLISH
X-ORIGINAL-URL:https://sfspacewalk.com
X-WR-CALDESC:Events for SF Space Walk
REFRESH-INTERVAL;VALUE=DURATION:PT1H
X-Robots-Tag:noindex
X-PUBLISHED-TTL:PT1H
BEGIN:VTIMEZONE
TZID:America/Los_Angeles
BEGIN:DAYLIGHT
TZOFFSETFROM:-0800
TZOFFSETTO:-0700
TZNAME:PDT
DTSTART:20240310T100000
END:DAYLIGHT
BEGIN:STANDARD
TZOFFSETFROM:-0700
TZOFFSETTO:-0800
TZNAME:PST
DTSTART:20241103T090000
END:STANDARD
BEGIN:DAYLIGHT
TZOFFSETFROM:-0800
TZOFFSETTO:-0700
TZNAME:PDT
DTSTART:20250309T100000
END:DAYLIGHT
BEGIN:STANDARD
TZOFFSETFROM:-0700
TZOFFSETTO:-0800
TZNAME:PST
DTSTART:20251102T090000
END:STANDARD
BEGIN:DAYLIGHT
TZOFFSETFROM:-0800
TZOFFSETTO:-0700
TZNAME:PDT
DTSTART:20260308T100000
END:DAYLIGHT
BEGIN:STANDARD
TZOFFSETFROM:-0700
TZOFFSETTO:-0800
TZNAME:PST
DTSTART:20261101T090000
END:STANDARD
END:VTIMEZONE
BEGIN:VEVENT
DTSTART;TZID=America/Los_Angeles:20250712T130000
DTEND;TZID=America/Los_Angeles:20250712T160000
DTSTAMP:20260423T145511
CREATED:20250513T043124Z
LAST-MODIFIED:20250710T174455Z
UID:10518-1752325200-1752336000@sfspacewalk.com
SUMMARY:SF Hash Week 2025 - Day 5
DESCRIPTION:SF Hash Week 2025 – Day 5 – Bowling with Fire King at Mission Bowl | Mission District\nSan Francisco’s hottest hashmaker the Fire King drops some exclusive hash\, and then takes over four lanes at Mission Bowl in the Mission for some fun with the fans.\n3 hours  of bowling with Fire King as part of a gourmet\, catered party. Purchase your $40 tickets here. Limit 36 seats. \nYou can also buy your tickets directly at the San Pancho by Oakfruitland dispensary on 19th St. in The Mission. Here’s the ticket link. \nBowling shoe rental will be included. Drop-ins can hang out and eat and drink at the Mission Bowl bar/kitchen. \n \nPurchase  your bowling tickets via Eventbrite here. Or Here.\nRead our SF Hash Week 2025 Festival Guide
URL:https://sfspacewalk.com/event/sf-hash-week-2025-day-5-saturday-july-12/
LOCATION:Mission Bowl\, 3176 17th St.\, San Francisco\, CA\, 94110\, United States
CATEGORIES:Public
ATTACH;FMTTYPE=image/png:https://sfspacewalk.com/wp-content/uploads/2025/05/SF-Hash-Week-2025-main-web-horizontal-1920-x-1080-v2-e1749166460742.png
ORGANIZER;CN="David Downs Presents":MAILTO:daviddownspresents@pm.me
END:VEVENT
END:VCALENDAR