BEGIN:VCALENDAR
VERSION:2.0
PRODID:-//SF Space Walk - ECPv6.15.20//NONSGML v1.0//EN
CALSCALE:GREGORIAN
METHOD:PUBLISH
X-ORIGINAL-URL:https://sfspacewalk.com
X-WR-CALDESC:Events for SF Space Walk
REFRESH-INTERVAL;VALUE=DURATION:PT1H
X-Robots-Tag:noindex
X-PUBLISHED-TTL:PT1H
BEGIN:VTIMEZONE
TZID:America/Los_Angeles
BEGIN:DAYLIGHT
TZOFFSETFROM:-0800
TZOFFSETTO:-0700
TZNAME:PDT
DTSTART:20250309T100000
END:DAYLIGHT
BEGIN:STANDARD
TZOFFSETFROM:-0700
TZOFFSETTO:-0800
TZNAME:PST
DTSTART:20251102T090000
END:STANDARD
BEGIN:DAYLIGHT
TZOFFSETFROM:-0800
TZOFFSETTO:-0700
TZNAME:PDT
DTSTART:20260308T100000
END:DAYLIGHT
BEGIN:STANDARD
TZOFFSETFROM:-0700
TZOFFSETTO:-0800
TZNAME:PST
DTSTART:20261101T090000
END:STANDARD
BEGIN:DAYLIGHT
TZOFFSETFROM:-0800
TZOFFSETTO:-0700
TZNAME:PDT
DTSTART:20270314T100000
END:DAYLIGHT
BEGIN:STANDARD
TZOFFSETFROM:-0700
TZOFFSETTO:-0800
TZNAME:PST
DTSTART:20271107T090000
END:STANDARD
END:VTIMEZONE
BEGIN:VEVENT
DTSTART;TZID=America/Los_Angeles:20260419T130000
DTEND;TZID=America/Los_Angeles:20260419T160000
DTSTAMP:20260423T010941
CREATED:20260105T152253Z
LAST-MODIFIED:20260331T172556Z
UID:14507-1776603600-1776614400@sfspacewalk.com
SUMMARY:SF Space Walk 2026 - Day 6 - Huckleberry Hill Farms and Snowtill @ 7 Stars | Exit Now
DESCRIPTION:Featuring: Huckleberry Hill Farms Whitethorn Rose; and Snowtill Galactic; and Screamberry!\nWith:\n\nFeaturing DJ Apollo\nPlus\, DJ Leori\n\nAnd \nfeat. DJ Stefan\nRSVP below for the Day 6 Drop Party of SF Space Walk 2026—Snowtill and Huckleberry Hill Farms @ 7 Stars | Exit Now\n \nArt Gallery\n  \nWe’ll email you details on how to pre-order\, attend\, pick up\, and party with your favorite grower. \nSF Space Walk is San Francisco’s 3rd annual week of weed—just like SF Beer Week or Restaurant Week. It’s 7 nights of the state’s best flower growers dropping new flowers in The City’s swankiest weed lounges; combined with art\, music\, food\, and culture. \nWhat’s a “Drop Party”?: It’s like a record release party\, but for a rockstar weed grower and hit flower. You RSVP\, pre-order\, attend\, purchase\, and party with the producer. There’s music\, snacks\, art\, giveaways\, deals\, and a grower interview. \nParticipating growers include: Sense\, Snowtill\, Sunset Connect\, Moon Valley\, Umma Sonoma\, Wood Wide Farms\, Bosky\, Huckleberry Hill Farms\, and more. \nParticipating lounges include: Sparc on Polk St.; Mission Cannabis Club\, Solful on Irving St.\, Moe Greens\, Fig+Thistle\, 7 Stars | Exit Now\, and BASA. \nRead the full SF Space Walk 2026 Festival Guide\nUse this form to to reserve your order from this very limited drop. Select the number of units you want and hit ‘Submit’. Then come to the party\, pay\, pickup and sesh with the farmer.\nPlease enable JavaScript in your browser to complete this form.Please enable JavaScript in your browser to complete this form.Name *FirstLast		\n			Total Hill Screamberry!\n			\n		\n		Email *Pickup nameSnowtill - GalacticGalactic 3.5g flower - $60.00012345678Galactic is formerly known as Gary Payton (The Y x Snowman). Bred by Kenny Powers\, of Powerzzzup. Grown indoors in no-till soil by Snowtill. Estimated price includes taxes. Price only available for pre-orderers.Snowtill - Screamberry!Screamberry! 3.5g flower - $60.00012345678Screamberry! is (Strawberry Slushie x Piecream). Grown indoors in no-till soil. Estimated price includes taxes. Price only available for pre-orderers.Huckleberry Hill Farms - Whitethorn RoseWhitethorn Rose - 3.5-gram flower - $30.00012345678The world-famous\, award-winning Whitethorn Rose (Paradise Punch x Lemon OG). Estimated price includes taxes. First 200 purchasers get a Huckleberry Hill Farms Amalfi (Paradise Punch x Zookies) seedling plant.Kanha ediblesSour Melon Rush Hybrid - $28.00012345678Hybrid Rosin Gummies 100 mg THC per bag. Buy one bag of Sour Melon get any other Kanha edible for $1.Total Amount$0.00Submit
URL:https://sfspacewalk.com/event/sf-space-walk-2026-day-6/
LOCATION:7 Stars\, Exit Now\, 3223 Pierce St.\, Richmond\, CA\, 94804\, United States
CATEGORIES:Public
ATTACH;FMTTYPE=image/jpeg:https://sfspacewalk.com/wp-content/uploads/2026/01/7-stars.jpeg
ORGANIZER;CN="David Downs Presents":MAILTO:daviddownspresents@pm.me
END:VEVENT
END:VCALENDAR