BEGIN:VCALENDAR
VERSION:2.0
PRODID:-//SF Space Walk - ECPv6.15.20//NONSGML v1.0//EN
CALSCALE:GREGORIAN
METHOD:PUBLISH
X-WR-CALNAME:SF Space Walk
X-ORIGINAL-URL:https://sfspacewalk.com
X-WR-CALDESC:Events for SF Space Walk
REFRESH-INTERVAL;VALUE=DURATION:PT1H
X-Robots-Tag:noindex
X-PUBLISHED-TTL:PT1H
BEGIN:VTIMEZONE
TZID:America/Los_Angeles
BEGIN:DAYLIGHT
TZOFFSETFROM:-0800
TZOFFSETTO:-0700
TZNAME:PDT
DTSTART:20240310T100000
END:DAYLIGHT
BEGIN:STANDARD
TZOFFSETFROM:-0700
TZOFFSETTO:-0800
TZNAME:PST
DTSTART:20241103T090000
END:STANDARD
BEGIN:DAYLIGHT
TZOFFSETFROM:-0800
TZOFFSETTO:-0700
TZNAME:PDT
DTSTART:20250309T100000
END:DAYLIGHT
BEGIN:STANDARD
TZOFFSETFROM:-0700
TZOFFSETTO:-0800
TZNAME:PST
DTSTART:20251102T090000
END:STANDARD
BEGIN:DAYLIGHT
TZOFFSETFROM:-0800
TZOFFSETTO:-0700
TZNAME:PDT
DTSTART:20260308T100000
END:DAYLIGHT
BEGIN:STANDARD
TZOFFSETFROM:-0700
TZOFFSETTO:-0800
TZNAME:PST
DTSTART:20261101T090000
END:STANDARD
END:VTIMEZONE
BEGIN:VEVENT
DTSTART;TZID=America/Los_Angeles:20250417T160000
DTEND;TZID=America/Los_Angeles:20250417T200000
DTSTAMP:20260424T020859
CREATED:20250310T124946Z
LAST-MODIFIED:20251115T185539Z
UID:7294-1744905600-1744920000@sfspacewalk.com
SUMMARY:SF Space Walk - Genetics Reception at the Mirus Gallery
DESCRIPTION:RSVP to meet some of the world’s leading genetics brands including:\nPurple City Genetics\n \nHumboldt Seed Co\n \nHappy Dreams\n \nZeed Vault\n \nGreenshock Farms\n \nLempire\n \nand 1 more to be announced!\nEnjoy downtown rooftop views\, a 1\,500-piece mylar art show\, bites\, beverages and beats in the big city.\n(David Downs)
URL:https://sfspacewalk.com/event/terpnami-2025-day-1-2/
LOCATION:Mirus Gallery\, 540 Howard St 3rd fl\, San Francisco\, CA\, 94105\, United States
ATTACH;FMTTYPE=image/webp:https://sfspacewalk.com/wp-content/uploads/2025/01/sf-sw-25-teaser-2-web.webp
ORGANIZER;CN="David Downs":MAILTO:david@sfspacewalk.com
END:VEVENT
END:VCALENDAR