BEGIN:VCALENDAR
VERSION:2.0
PRODID:-//SF Space Walk - ECPv6.15.20//NONSGML v1.0//EN
CALSCALE:GREGORIAN
METHOD:PUBLISH
X-ORIGINAL-URL:https://sfspacewalk.com
X-WR-CALDESC:Events for SF Space Walk
REFRESH-INTERVAL;VALUE=DURATION:PT1H
X-Robots-Tag:noindex
X-PUBLISHED-TTL:PT1H
BEGIN:VTIMEZONE
TZID:America/Los_Angeles
BEGIN:DAYLIGHT
TZOFFSETFROM:-0800
TZOFFSETTO:-0700
TZNAME:PDT
DTSTART:20250309T100000
END:DAYLIGHT
BEGIN:STANDARD
TZOFFSETFROM:-0700
TZOFFSETTO:-0800
TZNAME:PST
DTSTART:20251102T090000
END:STANDARD
BEGIN:DAYLIGHT
TZOFFSETFROM:-0800
TZOFFSETTO:-0700
TZNAME:PDT
DTSTART:20260308T100000
END:DAYLIGHT
BEGIN:STANDARD
TZOFFSETFROM:-0700
TZOFFSETTO:-0800
TZNAME:PST
DTSTART:20261101T090000
END:STANDARD
BEGIN:DAYLIGHT
TZOFFSETFROM:-0800
TZOFFSETTO:-0700
TZNAME:PDT
DTSTART:20270314T100000
END:DAYLIGHT
BEGIN:STANDARD
TZOFFSETFROM:-0700
TZOFFSETTO:-0800
TZNAME:PST
DTSTART:20271107T090000
END:STANDARD
END:VTIMEZONE
BEGIN:VEVENT
DTSTART;TZID=America/Los_Angeles:20260207T160000
DTEND;TZID=America/Los_Angeles:20260207T190000
DTSTAMP:20260423T043440
CREATED:20260105T162053Z
LAST-MODIFIED:20260131T191300Z
UID:14520-1770480000-1770490800@sfspacewalk.com
SUMMARY:Moon Valley 6-star Full Melt Drop Party - 'Big Game' Weekend Event
DESCRIPTION:RSVP below for the Saturday\, Feb. 7\, 4-7 p.m. Full Melt Drop Party at Moe Greens Lounge\, 1276 Market St. SF. \nPurchase required to enter smoking lounge.\nA Big Game pre-party for connoisseurs. \nDrop Party Headliner\nMoon Valley appears and releases a special\, limited batch of 6-star Full Melt Fresh Frozen Hash. Strain: Neon Panther. Price: $100/gram. 6-star full-melt is almost unheard of on California’s recreational market. Comes with 3.5 grams of Cherry Lime Dog Z flower for $1.* (*price and conditions subject to change) \nMoon Valley Neon Panther 6-star full-melt\nWith: San Francisco’s Fire King!\nYes\, that’s right\, San Francisco’s hottest hashmakers—Fire King—bring out some fresh Nam Wah royal jelly solventless jam sauce. Nam Wah is Symbiotic Genetics’ Banana OG x Mimosa V6. Epic in solventless form. Buy one gram of dabs\, get a gram for a $1. (We swapped in the Nam Wah for the hash holes\, sorry!) \n \nWhat’s a drop party? It’s like a record release party\, but for a top producer and a hype cannabis product. Fans meet the hitmaker and light up together. Plus\, music\, art\, food\, drink and giveaways. Music from the SF Space Walk Soundsystem featuring DJ Stefan. \nHow does it work? \n\nRSVP to receive drop party emails.\nPre-order what you want now when we release the form.\nCome to the event.\nPay\, pick up\, and party with Moon Valley\, Fire King and other guests.\n\nOne last thing: Doorbuster Deal!\nMoe Greens will sell 15 ‘doorbuster’ bags containing $240 worth of product for $125 (out the door) to the first 15 people in line at 4 p.m. PST. Show up\, line up\, and bust those doors down. \n \nWith DJ Stefan and the SF Space Walk Soundsystem \n \nAnd giveaways from:\n \nUpdate: The pre-order form is now live. Please reserve your units\, and mark your calendars to be at 1276 Market St. at 4 p.m. Saturday\, February 7.\nUpdate 2: We swapped in the Fire King Nam Wa royal jelly solventless jam sauce for the hash holes. Buy one gram get one for $1. Great deal!\nPlease enable JavaScript in your browser to complete this form.Please enable JavaScript in your browser to complete this form.Name *FirstLastEmail *Pickup namePlease arrive between 4 p.m. and 7 p.m. Saturday February 7 to pay\, receive your order\, and party with Moon Valley and Fire King. Early pickups are OK.		\n			- Total Name\n			\n		\n		Contact phone numberLeave us your number if you want us to text you a reminder.Your order comes with: ice packs; thermal bubble mailer; a reception\, beats\, bevs\, and bites; coloring pages from SF Space Walk\, Moon Valley\, and Fire King \nMoon Valley 6-star\, full-melt Neon Panther hash [just 24 units available]1-gram full-melt\, unpressed\, frozen - $100.00012345678Award-winning Neon Panther full-melt. (Blueberry Muffin x Papaya x Wedding Cake x Pink Runtz x Super Boof) Price is $100 out the door\, taxes included. A very special project involving super-low retail markup\, just-in-time inventory\, freezers\, and you! Limited to just 24 units! Comes with 3.5 grams of Moon Valley - Cherry Lime Dog Z flower for $1. An Incredible deal. NO DISCOUNTS MAY BE APPLIED TO THIS ITEM.\nFire King - Nam Wah royal jelly solventless jam sauce  [just 20 units available] 1 gram of royal jelly - $50.00012345678Award-winning Fire King Nam Wah royal jelly solventless jam sauce. Nam Wa is Symbiotic Genetics Banana OG x Mimosa V6. Buy a rosin get a rosin for $1. An Incredible deal. NO DISCOUNTS MAY BE APPLIED TO THIS ITEM. $50 estimated price out the door.Total Amount$0.00Submit
URL:https://sfspacewalk.com/event/moon-valley-6-star-full-melt-drop-party/
LOCATION:Moe Greens Dispensary & Lounge\, 1276 Market St\, San Francisco\, CA\, 94102\, United States
CATEGORIES:Public
ATTACH;FMTTYPE=image/png:https://sfspacewalk.com/wp-content/uploads/2026/01/Moon-Valley-Flyer-2.png
ORGANIZER;CN="David Downs Presents":MAILTO:daviddownspresents@pm.me
END:VEVENT
END:VCALENDAR