BEGIN:VCALENDAR
VERSION:2.0
PRODID:-//SF Space Walk - ECPv6.15.20//NONSGML v1.0//EN
CALSCALE:GREGORIAN
METHOD:PUBLISH
X-ORIGINAL-URL:https://sfspacewalk.com
X-WR-CALDESC:Events for SF Space Walk
REFRESH-INTERVAL;VALUE=DURATION:PT1H
X-Robots-Tag:noindex
X-PUBLISHED-TTL:PT1H
BEGIN:VTIMEZONE
TZID:America/Los_Angeles
BEGIN:DAYLIGHT
TZOFFSETFROM:-0800
TZOFFSETTO:-0700
TZNAME:PDT
DTSTART:20240310T100000
END:DAYLIGHT
BEGIN:STANDARD
TZOFFSETFROM:-0700
TZOFFSETTO:-0800
TZNAME:PST
DTSTART:20241103T090000
END:STANDARD
BEGIN:DAYLIGHT
TZOFFSETFROM:-0800
TZOFFSETTO:-0700
TZNAME:PDT
DTSTART:20250309T100000
END:DAYLIGHT
BEGIN:STANDARD
TZOFFSETFROM:-0700
TZOFFSETTO:-0800
TZNAME:PST
DTSTART:20251102T090000
END:STANDARD
BEGIN:DAYLIGHT
TZOFFSETFROM:-0800
TZOFFSETTO:-0700
TZNAME:PDT
DTSTART:20260308T100000
END:DAYLIGHT
BEGIN:STANDARD
TZOFFSETFROM:-0700
TZOFFSETTO:-0800
TZNAME:PST
DTSTART:20261101T090000
END:STANDARD
END:VTIMEZONE
BEGIN:VEVENT
DTSTART;TZID=America/Los_Angeles:20250417T173000
DTEND;TZID=America/Los_Angeles:20250417T193000
DTSTAMP:20260423T213036
CREATED:20250127T152053Z
LAST-MODIFIED:20250412T043721Z
UID:5712-1744911000-1744918200@sfspacewalk.com
SUMMARY:SF Space Walk – Day 4 - Sungrown showcase at Solful on Irving feat. Harry Rose's Limonata
DESCRIPTION:SF Space Walk – Day 4 – Sungrown showcase at Solful on Irving feat. Harry Rose’s Limonata. (Durban Sherbert x Durban Lime)\nThursday\, April 17\, 5 to 7 p.m.\, Solful\, 900 Irving St.\nSolful on Irving St. stands among the best places to buy sungrown on planet Earth. The selection is all smellable\, with profiles of each farm. Solful’s sungrown showcase for SF Space Walk offers the best of Solful’s hand-picked selections from the best outdoor growers of California.\nPre-orders are now open at this link. Pre-order now.\nRead more about the strain\, brand\, and venue in the Festival Guide\n(Courtesy Solful)\n(Courtesy Solful)\n(Courtesy Solful)\n  \n(Courtesy Solful)\nWhat happens at a drop party?\nIt’s like a record release party\, but for a rock star weed grower. You RSVP to receive a pre-order link\, reserve your jars\, go down for the party\, pick up\, meet and smoke with the weed celebs\, listen to an expert interview\, and have a good time. Free merch\, beats\, and treats. \n \nMore on Limonata\nAbout Handpicked Reserve\nEvery once in a while\, we discover a rare harvest that embodies a strain at its absolute peak — unparalleled complexity and depth\, incredible flavor and smoothness\, and sublime effect. Handpicked Reserve marks the one-of-a-kind cannabis our farm partners produce when they masterfully bring together sun\, soil\, craft\, and exceptional genetics. Prepare to be blown away. \nAbout this Strain\n\nEffects: Joyful\, Grounded\, Inspired\nAroma: Makrut Lime\, Tea Tree Oil\, Honey\nLineage: Durban Sherbet X Durban Lime\n\nTerpenes \n\nMyrcene: 1.01%\nLimonene: 0.22%\nβ-Caryophyllene: 0.18%\nβ-Ocimene: 0.12%\nTotal: 2.12%\n\nCannabinoids \n\nTHC: 25%\n CBD: 0%\nCBG: 1%\nCBC: 1%\nTotal: 27%\n\nFarm: Chanterelle Hill Farm \nRegion: Blocksburg\, Humboldt County \nChanterelle Hill Farm is a small family homestead and legacy farm in the mountains of Southeast Humboldt. Owners Harry and Natalie Rose use JADAM organic agriculture methods and regenerative practices to cultivate living soil and farm in harmony with natural processes. \nPre-orders are now open at this link. Pre-order now.
URL:https://sfspacewalk.com/event/sf-space-walk-day-4-sungrown-showcase-at-solful-on-irving/
LOCATION:Solful\, 900 Irving St\, San Francisco\, CA\, 94122\, United States
CATEGORIES:Public
ATTACH;FMTTYPE=image/webp:https://sfspacewalk.com/wp-content/uploads/2025/01/sf-sw-25-teaser-2-web-harry-rose.webp
ORGANIZER;CN="David Downs":MAILTO:david@sfspacewalk.com
END:VEVENT
END:VCALENDAR